BEGIN:VCALENDAR
VERSION:2.0
PRODID:-//BOC IT-Security GmbH - ECPv6.7.0//NONSGML v1.0//EN
CALSCALE:GREGORIAN
METHOD:PUBLISH
X-ORIGINAL-URL:https://wordpress.boc.de/watchguard-info-portal
X-WR-CALDESC:Veranstaltungen für BOC IT-Security GmbH
REFRESH-INTERVAL;VALUE=DURATION:PT1H
X-Robots-Tag:noindex
X-PUBLISHED-TTL:PT1H
BEGIN:VTIMEZONE
TZID:Europe/Berlin
BEGIN:DAYLIGHT
TZOFFSETFROM:+0100
TZOFFSETTO:+0200
TZNAME:CEST
DTSTART:20260329T010000
END:DAYLIGHT
BEGIN:STANDARD
TZOFFSETFROM:+0200
TZOFFSETTO:+0100
TZNAME:CET
DTSTART:20261025T010000
END:STANDARD
END:VTIMEZONE
BEGIN:VEVENT
DTSTART;TZID=Europe/Berlin:20260508T090000
DTEND;TZID=Europe/Berlin:20260508T094500
DTSTAMP:20260424T103139
CREATED:20260407T092754Z
LAST-MODIFIED:20260407T093113Z
UID:30718-1778230800-1778233500@wordpress.boc.de
SUMMARY:BestPractices.live - Eine Plattform. Volle Kontrolle. ThreatSync in Aktion
DESCRIPTION:Inhalt:\nIn einer zunehmend komplexen IT-Landschaft stehen Unternehmen vor der Herausforderung\, unterschiedliche Sicherheitstools effizient miteinander zu verknüpfen. Dieses Webinar zeigt\, wie sich isolierte Lösungen zusammenführen lassen\, um Endpunkt-\, Netzwerk- und Identitätsschutz zentral zu steuern. \nAnhand praxisnaher Live-Demonstrationen wird veranschaulicht\, wie verschiedene Sicherheitsvorfälle – von Malware bis hin zu Netzwerkangriffen – generiert und verwaltet werden können. Ziel ist es\, einen klaren Überblick über die Vorteile einer integrierten Sicherheitsarchitektur zu vermitteln und deren Mehrwert greifbar zu machen. \nJetzt zum Webinar anmelden!
URL:https://wordpress.boc.de/watchguard-info-portal/termine/bestpractices-live-eine-plattform-volle-kontrolle-threatsync-in-aktion/
LOCATION:Online Webinar bei Citrix GoToWebinar\, Onlineveranstaltung
CATEGORIES:WatchGuard Webinare
ATTACH;FMTTYPE=image/jpeg:https://wordpress.boc.de/watchguard-info-portal/wp-content/uploads/2019/11/wg-webinare_200x200.jpg
END:VEVENT
BEGIN:VEVENT
DTSTART;TZID=Europe/Berlin:20260519T090000
DTEND;TZID=Europe/Berlin:20260522T160000
DTSTAMP:20260424T103139
CREATED:20251104T115426Z
LAST-MODIFIED:20251114T110129Z
UID:29588-1779181200-1779465600@wordpress.boc.de
SUMMARY:Network Security Essentials-Schulung Fireware 12
DESCRIPTION:Network Security Essentials-Schulung (Fireware Essentials)\n\n\n\n\nZum Anmeldeformular\n\n\nZIELE:\nDieser Kurs vermittelt die notwendigen Kenntnisse\, um eine WatchGuard Firebox in ein LAN/WAN-Netz zu integrieren\, zu konfigurieren und zu überwachen. Der Kurs soll einen möglichst vollständigen Überblick über die vorhandenen Fähigkeiten der WatchGuard Firebox bieten. Der Kurs enthält die Grundlagen\, die Inbetriebnahme\, die Lizensierung\, die Konfiguration der Policies und Security Services\, Trouble-Shooting sowie Logging und Reporting. Es wird gezeigt\, wie mit WatchGuard ein Site-to-Site VPN (Branch Office VPN) zwischen mehreren Standorten sicher konfiguriert und betrieben wird. Außerdem werden die verschiedenen Technologien vorgestellt\, mit denen Mobile User per Dial-In VPN sicher an das Firmennetzwerk angebunden werden können (IPSec\, SSL-VPN und L2TP). Ein Überblick über die Add-Ons wie Gateway-Wireless Controller und FireCluster runden den Workshop ab. Schwerpunkte werden anhand der Bedürfnisse der Workshop-Teilnehmer im Vorfeld besprochen und gerne berücksichtigt.\n\n\nZIELGRUPPE:\nDiese Schulung wendet sich an Netzwerk Administratoren und Techniker\, die eine WatchGuard Firebox / XTM Firewall VPN Appliance mit dem aktuellen Betriebssystem Fireware XTM v12.x in ihrer LAN/WAN-Umgebung installieren und administrieren sollen.\n\n\nVORAUSSETZUNGEN:\nGrundkenntnisse über Netzwerkadministration\, IP-Adressierung\, Handhabung von IP-Subnetzen\, Routing und Internet-Zugangstechnologien (klassische Standleitung\, DSL\, ISDN\, LTE/UMTS (4G/3G)) werden vorausgesetzt. Das Seminar wird in deutscher Sprache gehalten. Für eine erfolgreiche Teilnahme müssen Grundkenntnisse in englischer Sprache vorhanden sein\, um den in Englisch gehaltenen Seminarunterlagen und der Bedieneroberfläche folgen zu können.\n\n\nINHALT:\nDie Inhaltsangabe ist ein grober “Fahrplan”\, wobei einzelne Themen nach Bedarf der Schulungsteilnehmer in gekürzter Form oder entsprechend detaillierter durchgesprochen werden. Nachfolgend der typische Ablauf einer 4-Tages-Schulung \nTag 1: \n\nÜbersicht über die verfügbaren zusätzlichen Security Services (WebBlocker\, spamBlocker\, Gateway Antivirus\, Intrusion Prevention Service\, Application Control\, Reputation Enabled Defense\, BotNet Detection\, Geolocation\, Data Loss Prevention\, APT Blocker\, EDR Core\, ThreatSync (XDR)\, Mobile Security)\nUnterschied Paketfilter-Firewall und Security Gateway\nSecurity Principles\, Application Proxy und Packet Filter\nFirebox Basics (WatchGuard System Manager\, Management Server\, Web-UI\, Tools)\nInbetriebnahme – Installation Wizard – Lizensierung – Feature Key\nNetzwerk-Konfiguration der Firewall-Interfaces (Static IP\, DHCP\, PPPoE)\nDie Verwendung von Aliases\nHinzufügen und Konfiguration von Policies – Teil 1: Packet Filter\n\nUnterschied zwischen Packet Filter Policies und Proxy Policies\nStandard Policy-Types\nCustom Policy-Types\nManual Order Mode vs. Auto Order Mode – Reihenfolge der Policies Teil 1\nDynamic NAT vs. 1-to-1 NAT vs. Static NAT (SNAT)\n\n\n\nTag 2: \n\nHinzufügen und Konfiguration von Policies – Teil 2: Application Proxies\n\nSecurity Services in den Policies: Proxy-Services\nKonfiguration der Proxy-Services (WebBlocker\, spamBlocker\, Gateway Antivirus\, Intrusion Prevention Service\, Application Control\, Reputation Enabled Defense\, BotNet Detection\, Geolocation\, Data Loss Prevention\, APT Blocker\, EDR Core\, ThreatSync (XDR)\, Mobile Security)\nManual Order Mode vs. Auto Order Mode – Reihenfolge der Policies Teil 2\n\n\nGrundlagen Symmetrische / Asymmetrische Verschlüsselung\nGrundlagen Zertifikate / Zertifikatsketten / Signaturen\nHTTPS Deep Inspection / Content-Inspection\nUser Authentication und Authentication Servers.\n\nAnbindung an RADIUS\nActive Directory\nSingle Sign On\n\n\nRole Based Internet Access basierend auf Usern oder Gruppen (Active Directory oder lokale Firebox-DB)\n\nTag 3: \n\nBranch Office VPN mit IPSec (Standortverbindungen\, Site-to-Site-VPN)\nMobile User VPN (gesicherte Anbindung mobiler Benutzer)\n\nSSL VPN / OpenVPN – Unterschiede und Gemeinsamkeiten / Verschiedene Endgeräte\nMehrstufiges Rechteschema bei VPN Login\nAusblick: Mobile VPN mit L2TP & IPSec\nAusblick: Mobile VPN mit IKEv2 / VPN before Logon\n\n\nSetup & Betrieb eines Firebox Clusters\nÜberblick: WatchGuard Management Server \n\nzentralisierte Verwaltung mehrerer WatchGuard Fireboxen\nVerwaltung von VPNs \nPolicy Templates\n\n\n\nTag 4 \n\nGateway Wireless Controller – WLAN mit mehreren SSIDs auf unterschiedlichen VLANs\nHotspot Funktionalität – Gäste-Netzwerk mit WLAN Vouchers\nAccess Portal\nAuthPoint / MFA\nMonitoring (Firebox System Monitor\, Bandwidth Meter\, Authenticated Users\, HostWatch\, WebUI\, Network Discovery)\nLogging – Installation und Konfiguration eines WatchGuard Dimension Servers\nReporting – Arbeiten mit dem WatchGuard Dimension Server\nÜberblick: WatchGuard Wi-Fi Cloud\, Wireless Intrusion Prevention System (WIPS)\nÜberblick: EDR Core\nÜberblick: WatchGuard Cloud\n\nLogging in die Cloud\nCloud-Managed Fireboxes\n\n\n\n\n\n\nECKDATEN:\n\n\nDauer: 4 Tage (jeweils 09:00-16:00 Uhr)\, Termine siehe weiter unten.\nDie Schulungen werden entweder in Präsenz in Oberhausen\, online oder als Hybrid-Schulung (Präsenz-Schulung mit zusätzlichen Online-Teilnehmern) angeboten.\nTeilnahmegebühr Online: 2.300\,00 Euro zzgl. MwSt. pro Person inkl. Schulungsunterlagen (PDF).\nTeilnahmegebühr Präsenz: 2.700\,00 Euro zzgl. MwSt. pro Person inkl. Schulungsunterlagen (PDF).\nAb zwei Personen aus dem gleichen Unternehmen reduziert sich die Teilnahmegebühr um 200\,00 Euro pro Person.\nDie Rechnungsstellung erfolgt vorab. Nach Eingang Ihrer Zahlung erhalten Sie eine schriftliche Bestätigung.\nBei Verhinderung des angemeldeten Teilnehmers kann eine Ersatzperson benannt werden.\nEine Umbuchung auf einen späteren Termin ist gegen eine Gebühr von 100\,00 Euro möglich.\nSollte ein gebuchter Termin ausfallen\, erfolgt eine kostenfreie Umbuchung auf einen späteren Termin. Bei zu geringer Teilnehmerzahl behalten wir uns vor\, den Termin zu verlegen oder abzusagen.\nEine Rückerstattung ist jedoch ausgeschlossen.\nBesonderes Highlight:\nAlle Teilnehmer der Network Security Essentials-Schulung haben die einmalige Gelegenheit eine WatchGuard Firebox T145-W mit 3 Jahren Total Security für nur 444 € zzgl. MwSt. (statt ca. 3600 €) als Test-Box für ihr Home-Lab zu erwerben. Das Angebot ist auf eine Box pro Teilnehmer begrenzt.\n\n\n\n\n\n  \n				\n			\n\n				\n\n\nOnline-Schulung | \nZum Anmeldeformular
URL:https://wordpress.boc.de/watchguard-info-portal/termine/network-security-essentials-schulung-fireware-v12-2026-05/
CATEGORIES:WatchGuard Schulungen
ATTACH;FMTTYPE=image/jpeg:https://wordpress.boc.de/watchguard-info-portal/wp-content/uploads/2019/06/boc-schulungen_200x200.jpg
ORGANIZER;CN="BOC IT-Security GmbH":MAILTO:info@boc.de
END:VEVENT
BEGIN:VEVENT
DTSTART;TZID=Europe/Berlin:20260522T090000
DTEND;TZID=Europe/Berlin:20260522T094500
DTSTAMP:20260424T103139
CREATED:20260407T093309Z
LAST-MODIFIED:20260407T093528Z
UID:30721-1779440400-1779443100@wordpress.boc.de
SUMMARY:BestPractices.live - Passkeys in der Zero-Trust-Strategie
DESCRIPTION:Inhalt:\nPasswörter gelten seit jeher als besonders anfälliger Bestandteil der IT-Sicherheit\, da sie leicht durch Phishing\, Brute-Force-Angriffe oder Credential Stuffing kompromittiert werden können. Obwohl Multifaktor-Authentifizierung (MFA) weiterhin eine wichtige Rolle spielt\, entwickelt sich der Markt zunehmend in Richtung moderner und benutzerfreundlicher Alternativen wie Passkeys. Mit der Integration dieser Technologie in Authentifizierungslösungen wird nicht nur das Sicherheitsniveau deutlich erhöht\, sondern auch die Nutzererfahrung spürbar verbessert. \nIn diesem Webinar erfahren Sie\, wie sich die Lücke zwischen strategischen Identitätskonzepten und deren technischer Umsetzung schließen lässt. Dabei wird erläutert\, wie Passkeys auf Basis von FIDO2- und WebAuthn-Standards klassische Passwörter durch kryptografisch abgesicherte Anmeldedaten ersetzen\, die nahezu immun gegen Phishing-Angriffe sind. \nJetzt zum Webinar anmelden!
URL:https://wordpress.boc.de/watchguard-info-portal/termine/bestpractices-live-passkeys-in-der-zero-trust-strategie/
LOCATION:Online Webinar bei Citrix GoToWebinar\, Onlineveranstaltung
CATEGORIES:WatchGuard Webinare
ATTACH;FMTTYPE=image/jpeg:https://wordpress.boc.de/watchguard-info-portal/wp-content/uploads/2019/11/wg-webinare_200x200.jpg
END:VEVENT
BEGIN:VEVENT
DTSTART;TZID=Europe/Berlin:20260528T160000
DTEND;TZID=Europe/Berlin:20260528T210000
DTSTAMP:20260424T103139
CREATED:20260316T105103Z
LAST-MODIFIED:20260316T105354Z
UID:30546-1779984000-1780002000@wordpress.boc.de
SUMMARY:BOC Stammtisch Köln 2026
DESCRIPTION:In Zusammenarbeit mit WatchGuard veranstalten wir in diesem Jahr drei Stammtische an verschiedenen Standorten. In entspannter Atmosphäre können Sie sich mit unseren IT-Security Experten über die neuesten Trends\, Best-Practices und aktuelle Bedrohungen austauschen. Freuen Sie sich auf spannende Diskussionen\, praxisnahe Einblicke und wertvolle Networking-Möglichkeiten! \n\n\n\n\nAgenda\n\n\n\n\n\n\n\n\n16:00 – 16:30 – Ankunft\n16:30 – 17:30 – Zeit zum Fachsimpeln oder 1:1-Gespräche\n17:30 – 19:00 – gemütliches Abendessen\n19:00 – Open End \n\n\n\n\nWeitere Informationen inkl. Anmeldeformular finden Sie unter >> BOC Stammtische 2026. \nJetzt anmelden!
URL:https://wordpress.boc.de/watchguard-info-portal/termine/boc-stammtisch-koeln-2026/
CATEGORIES:Messen & sonstige Veranstaltungen
END:VEVENT
END:VCALENDAR