BEGIN:VCALENDAR
VERSION:2.0
PRODID:-//BOC IT-Security GmbH - ECPv6.7.0//NONSGML v1.0//EN
CALSCALE:GREGORIAN
METHOD:PUBLISH
X-WR-CALNAME:BOC IT-Security GmbH
X-ORIGINAL-URL:https://wordpress.boc.de/watchguard-info-portal
X-WR-CALDESC:Veranstaltungen für BOC IT-Security GmbH
REFRESH-INTERVAL;VALUE=DURATION:PT1H
X-Robots-Tag:noindex
X-PUBLISHED-TTL:PT1H
BEGIN:VTIMEZONE
TZID:Europe/Berlin
BEGIN:DAYLIGHT
TZOFFSETFROM:+0100
TZOFFSETTO:+0200
TZNAME:CEST
DTSTART:20250330T010000
END:DAYLIGHT
BEGIN:STANDARD
TZOFFSETFROM:+0200
TZOFFSETTO:+0100
TZNAME:CET
DTSTART:20251026T010000
END:STANDARD
END:VTIMEZONE
BEGIN:VEVENT
DTSTART;TZID=Europe/Berlin:20250916T090000
DTEND;TZID=Europe/Berlin:20250919T160000
DTSTAMP:20260424T195902
CREATED:20241112T101041Z
LAST-MODIFIED:20250407T152818Z
UID:25652-1758013200-1758297600@wordpress.boc.de
SUMMARY:Network Security Essentials-Schulung Fireware 12
DESCRIPTION:Network Security Essentials-Schulung (Fireware Essentials)\n\n\n\n\nZum Anmeldeformular\n\n\nZIELE:\nDieser Kurs vermittelt die notwendigen Kenntnisse\, um eine WatchGuard Firebox in ein LAN/WAN-Netz zu integrieren\, zu konfigurieren und zu überwachen. Der Kurs soll einen möglichst vollständigen Überblick über die vorhandenen Fähigkeiten der WatchGuard Firebox bieten. Der Kurs enthält die Grundlagen\, die Inbetriebnahme\, die Lizensierung\, die Konfiguration der Policies und Security Services\, Trouble-Shooting sowie Logging und Reporting. Es wird gezeigt\, wie mit WatchGuard ein Site-to-Site VPN (Branch Office VPN) zwischen mehreren Standorten sicher konfiguriert und betrieben wird. Außerdem werden die verschiedenen Technologien vorgestellt\, mit denen Mobile User per Dial-In VPN sicher an das Firmennetzwerk angebunden werden können (IPSec\, SSL-VPN und L2TP). Ein Überblick über die Add-Ons wie Gateway-Wireless Controller und FireCluster runden den Workshop ab. Schwerpunkte werden anhand der Bedürfnisse der Workshop-Teilnehmer im Vorfeld besprochen und gerne berücksichtigt.\n\n\nZIELGRUPPE:\nDiese Schulung wendet sich an Netzwerk Administratoren und Techniker\, die eine WatchGuard Firebox / XTM Firewall VPN Appliance mit dem aktuellen Betriebssystem Fireware XTM v12.x in ihrer LAN/WAN-Umgebung installieren und administrieren sollen.\n\n\nVORAUSSETZUNGEN:\nGrundkenntnisse über Netzwerkadministration\, IP-Adressierung\, Handhabung von IP-Subnetzen\, Routing und Internet-Zugangstechnologien (klassische Standleitung\, DSL\, ISDN\, LTE/UMTS (4G/3G)) werden vorausgesetzt. Das Seminar wird in deutscher Sprache gehalten. Für eine erfolgreiche Teilnahme müssen Grundkenntnisse in englischer Sprache vorhanden sein\, um den in Englisch gehaltenen Seminarunterlagen und der Bedieneroberfläche folgen zu können.\n\n\nINHALT:\nDie Inhaltsangabe ist ein grober “Fahrplan”\, wobei einzelne Themen nach Bedarf der Schulungsteilnehmer in gekürzter Form oder entsprechend detaillierter durchgesprochen werden. Nachfolgend der typische Ablauf einer 4-Tages-Schulung \nTag 1: \n\nÜbersicht über die verfügbaren zusätzlichen Security Services (WebBlocker\, spamBlocker\, Gateway Antivirus\, Intrusion Prevention Service\, Application Control\, Reputation Enabled Defense\, BotNet Detection\, Geolocation\, Data Loss Prevention\, APT Blocker\, EDR Core\, ThreatSync (XDR)\, Mobile Security)\nUnterschied Paketfilter-Firewall und Security Gateway\nSecurity Principles\, Application Proxy und Packet Filter\nFirebox Basics (WatchGuard System Manager\, Management Server\, Web-UI\, Tools)\nInbetriebnahme – Installation Wizard – Lizensierung – Feature Key\nNetzwerk-Konfiguration der Firewall-Interfaces (Static IP\, DHCP\, PPPoE)\nDie Verwendung von Aliases\nHinzufügen und Konfiguration von Policies – Teil 1: Packet Filter\n\nUnterschied zwischen Packet Filter Policies und Proxy Policies\nStandard Policy-Types\nCustom Policy-Types\nManual Order Mode vs. Auto Order Mode – Reihenfolge der Policies Teil 1\nDynamic NAT vs. 1-to-1 NAT vs. Static NAT (SNAT)\n\n\n\nTag 2: \n\nHinzufügen und Konfiguration von Policies – Teil 2: Application Proxies\n\nSecurity Services in den Policies: Proxy-Services\nKonfiguration der Proxy-Services (WebBlocker\, spamBlocker\, Gateway Antivirus\, Intrusion Prevention Service\, Application Control\, Reputation Enabled Defense\, BotNet Detection\, Geolocation\, Data Loss Prevention\, APT Blocker\, EDR Core\, ThreatSync (XDR)\, Mobile Security)\nManual Order Mode vs. Auto Order Mode – Reihenfolge der Policies Teil 2\n\n\nGrundlagen Symmetrische / Asymmetrische Verschlüsselung\nGrundlagen Zertifikate / Zertifikatsketten / Signaturen\nHTTPS Deep Inspection / Content-Inspection\nUser Authentication und Authentication Servers.\n\nAnbindung an RADIUS\nActive Directory\nSingle Sign On\n\n\nRole Based Internet Access basierend auf Usern oder Gruppen (Active Directory oder lokale Firebox-DB)\n\nTag 3: \n\nBranch Office VPN mit IPSec (Standortverbindungen\, Site-to-Site-VPN)\nMobile User VPN (gesicherte Anbindung mobiler Benutzer)\n\nSSL VPN / OpenVPN – Unterschiede und Gemeinsamkeiten / Verschiedene Endgeräte\nMehrstufiges Rechteschema bei VPN Login\nAusblick: Mobile VPN mit L2TP & IPSec\nAusblick: Mobile VPN mit IKEv2 / VPN before Logon\n\n\nSetup & Betrieb eines Firebox Clusters\nÜberblick: WatchGuard Management Server \n\nzentralisierte Verwaltung mehrerer WatchGuard Fireboxen\nVerwaltung von VPNs \nPolicy Templates\n\n\n\nTag 4 \n\nGateway Wireless Controller – WLAN mit mehreren SSIDs auf unterschiedlichen VLANs\nHotspot Funktionalität – Gäste-Netzwerk mit WLAN Vouchers\nAccess Portal\nAuthPoint / MFA\nMonitoring (Firebox System Monitor\, Bandwidth Meter\, Authenticated Users\, HostWatch\, WebUI\, Network Discovery)\nLogging – Installation und Konfiguration eines WatchGuard Dimension Servers\nReporting – Arbeiten mit dem WatchGuard Dimension Server\nÜberblick: WatchGuard Wi-Fi Cloud\, Wireless Intrusion Prevention System (WIPS)\nÜberblick: EDR Core\nÜberblick: WatchGuard Cloud\n\nLogging in die Cloud\nCloud-Managed Fireboxes\n\n\n\n\n\n\nECKDATEN:\n\n\nDauer: 4 Tage (jeweils 09:00-16:00 Uhr)\, Termine siehe weiter unten.\nDie Schulungen werden entweder in Präsenz in Oberhausen\, online oder als Hybrid-Schulung (Präsenz-Schulung mit zusätzlichen Online-Teilnehmern) angeboten.\nTeilnahmegebühr Online: 2.300\,00 Euro zzgl. MwSt. pro Person inkl. Schulungsunterlagen (PDF).\nTeilnahmegebühr Präsenz: 2.700\,00 Euro zzgl. MwSt. pro Person inkl. Schulungsunterlagen (PDF).\nAb zwei Personen aus dem gleichen Unternehmen reduziert sich die Teilnahmegebühr um 200\,00 Euro pro Person.\nDie Rechnungsstellung erfolgt vorab. Nach Eingang Ihrer Zahlung erhalten Sie eine schriftliche Bestätigung.\nBei Verhinderung des angemeldeten Teilnehmers kann eine Ersatzperson benannt werden.\nEine Umbuchung auf einen späteren Termin ist gegen eine Gebühr von 100\,00 Euro möglich.\nSollte ein gebuchter Termin ausfallen\, erfolgt eine kostenfreie Umbuchung auf einen späteren Termin. Bei zu geringer Teilnehmerzahl behalten wir uns vor\, den Termin zu verlegen oder abzusagen.\nEine Rückerstattung ist jedoch ausgeschlossen.\nBesonderes Highlight:\nAlle Teilnehmer der Network Security Essentials-Schulung haben die einmalige Gelegenheit eine WatchGuard Firebox T145-W mit 3 Jahren Total Security für nur 444 € zzgl. MwSt. (statt ca. 3600 €) als Test-Box für ihr Home-Lab zu erwerben. Das Angebot ist auf eine Box pro Teilnehmer begrenzt.\n\n\n\n\n\n  \n				\n			\n\n				\n\n\nPräsenz-Schulung | \nZum Anmeldeformular
URL:https://wordpress.boc.de/watchguard-info-portal/termine/network-security-essentials-schulung-fireware-v12-2025-09/
CATEGORIES:WatchGuard Schulungen
ATTACH;FMTTYPE=image/jpeg:https://wordpress.boc.de/watchguard-info-portal/wp-content/uploads/2019/06/boc-schulungen_200x200.jpg
ORGANIZER;CN="BOC IT-Security GmbH":MAILTO:info@boc.de
END:VEVENT
BEGIN:VEVENT
DTSTART;TZID=Europe/Berlin:20250918T090000
DTEND;TZID=Europe/Berlin:20250918T170000
DTSTAMP:20260424T195902
CREATED:20241114T201706Z
LAST-MODIFIED:20250407T152847Z
UID:25741-1758186000-1758214800@wordpress.boc.de
SUMMARY:Endpoint Security Essentials-Schulung
DESCRIPTION:Endpoint Security Essentials-Schulung\n\n\n\n\nZum Anmeldeformular\n\n\nZIELE:\n\n\nVermittlung eines grundlegenden Verständnisses der Funktionen\, Komponenten und Anwendungsmöglichkeiten von WatchGuard Endpoint Security Produkten wie 360 (ehemals EPDR)\nErlernen der effizienten Erkennung\, Analyse und Abwehr von Bedrohungen durch die richtige Konfiguration und Nutzung\nEinblick in das zentrale Management und die Verwaltung von Endpunkt-Sicherheitslösungen\, einschließlich des Einsatzes von Automatisierung zur Erhöhung der Sicherheit.\nErlernen der Verwendung zusätzlicher Module (wie z.B. Patch Management) zur Erweiterung der Grundfunktionen\, um spezifische Sicherheitsanforderungen zu erfüllen.\nEinführung in Best Practices für die Konfiguration und Verwaltung sowie grundlegende Fehlerbehebung und -analyse für eine effiziente Nutzung im Arbeitsalltag.\n\n\n\n\nZIELGRUPPE:\nDiese Schulung richtet sich an IT-Fachkräfte\, die ein tiefes Verständnis für die Absicherung von Endgeräten benötigen\, um die Infrastruktur ihres Unternehmens oder ihrer Kunden vor Bedrohungen zu schützen.\n\n\nVORAUSSETZUNGEN:\nEin Basiswissen über IT-Sicherheitskonzepte und die Bedrohungslandschaft ist erforderlich\, um den Aufbau und die Funktionsweise von Endpoint Security-Lösungen zu verstehen. Kenntnisse in Netzwerkadministration sowie grundlegende Erfahrung mit der Administration von Endgeräten und deren Betriebssystemen erleichtern das Verständnis und die praktische Umsetzung der Inhalte. Das Seminar wird in deutscher Sprache gehalten. Für eine erfolgreiche Teilnahme müssen Grundkenntnisse in englischer Sprache vorhanden sein\, um den in Englisch gehaltenen Seminarunterlagen und der Bedieneroberfläche folgen zu können.\n\n\nINHALT:\nDie Inhaltsangabe ist ein grober “Fahrplan”\, wobei einzelne Themen nach Bedarf der Schulungsteilnehmer in gekürzter Form oder entsprechend detaillierter durchgesprochen werden. \n\nGrundlagen der Endpoint Security\nWatchGuard Endpoint Security 360 (ehemals EPDR) & WatchGuard Endpoint Security Elite (ehemals Advanced EPDR)\nZusatzmodule wie Patch Management\n\n\n\n\nECKDATEN:\n\n\nDauer: 1 Tag (jeweils 09:00-17:00 Uhr)\, Termine siehe weiter unten.\nDie Schulungen werden ausschließlich online angeboten.\nTeilnahmegebühr: 750\,00 Euro zzgl. MwSt. pro Person inkl. Schulungsunterlagen (PDF).\nDie Rechnungsstellung erfolgt vorab. Nach Eingang Ihrer Zahlung erhalten Sie eine schriftliche Bestätigung.\nBei Verhinderung des angemeldeten Teilnehmers kann eine Ersatzperson benannt werden.\nEine Umbuchung auf einen späteren Termin ist gegen eine Gebühr von 100\,00 Euro möglich.\nSollte ein gebuchter Termin ausfallen\, erfolgt eine kostenfreie Umbuchung auf einen späteren Termin. Bei zu geringer Teilnehmerzahl behalten wir uns vor\, den Termin zu verlegen oder abzusagen.\nEine Rückerstattung ist jedoch ausgeschlossen.\n\n\n\n\n\n				\n			\n\n				\n\n\nOnline-Schulung | \nZum Anmeldeformular
URL:https://wordpress.boc.de/watchguard-info-portal/termine/endpoint-security-essentials-schulung-2025-09/
CATEGORIES:WatchGuard Schulungen
ATTACH;FMTTYPE=image/jpeg:https://wordpress.boc.de/watchguard-info-portal/wp-content/uploads/2019/06/boc-schulungen_200x200.jpg
ORGANIZER;CN="BOC IT-Security GmbH":MAILTO:info@boc.de
END:VEVENT
BEGIN:VEVENT
DTSTART;TZID=Europe/Berlin:20250918T100000
DTEND;TZID=Europe/Berlin:20250918T110000
DTSTAMP:20260424T195902
CREATED:20250909T102648Z
LAST-MODIFIED:20250909T103320Z
UID:28910-1758189600-1758193200@wordpress.boc.de
SUMMARY:WatchGuard Tech Training - Sicher arbeiten dank Multifaktor-Authentifizierung
DESCRIPTION:Inhalt:\nVPN-Zugänge geraten zunehmend ins Visier von Hackern\, da sie einen direkten Zugang zu internen IT-Strukturen eröffnen. \nUm unbefugte Zugriffe wirksam zu unterbinden und gleichzeitig das Sicherheitsniveau anzuheben\, bietet sich der Einsatz von Multifaktor-Authentifizierung an. Mit AuthPoint lässt sich dies unkompliziert und mit geringem administrativem Aufwand realisieren. \nDarüber hinaus präsentieren Ihnen WatchGuard-Experten eine moderne Schutzlösung für Zweigstellen – komplett ohne den Einsatz klassischer Firewall-Geräte.Damit sichern Sie Ihre Systeme und Cloud-Anwendungen zuverlässig ab\, ohne zusätzliche Hardware oder Anpassungen in Niederlassungen oder im Homeoffice vorzunehmen. \nJetzt zum Webinar anmelden!
URL:https://wordpress.boc.de/watchguard-info-portal/termine/watchguard-tech-training-sicher-arbeiten-dank-multifaktor-authentifizierung/
LOCATION:Online Webinar bei Citrix GoToWebinar\, Onlineveranstaltung
CATEGORIES:WatchGuard Webinare
ATTACH;FMTTYPE=image/jpeg:https://wordpress.boc.de/watchguard-info-portal/wp-content/uploads/2019/11/wg-webinare_200x200.jpg
END:VEVENT
BEGIN:VEVENT
DTSTART;TZID=Europe/Berlin:20250923T160000
DTEND;TZID=Europe/Berlin:20250923T210000
DTSTAMP:20260424T195902
CREATED:20250407T154306Z
LAST-MODIFIED:20250509T115329Z
UID:27759-1758643200-1758661200@wordpress.boc.de
SUMMARY:BOC Stammtisch Hamburg
DESCRIPTION:In Zusammenarbeit mit WatchGuard veranstalten wir in diesem Jahr drei Stammtische an verschiedenen Standorten. In entspannter Atmosphäre können Sie sich mit unseren IT-Security Experten über die neuesten Trends\, Best-Practices und aktuelle Bedrohungen austauschen. Freuen Sie sich auf spannende Diskussionen\, praxisnahe Einblicke und wertvolle Networking-Möglichkeiten! \nWeitere Informationen inkl. Anmeldeformular finden Sie unter >> BOC Stammtische 2025. \nJetzt anmelden!
URL:https://wordpress.boc.de/watchguard-info-portal/termine/boc-stammtisch-hamburg/
CATEGORIES:Messen & sonstige Veranstaltungen
END:VEVENT
BEGIN:VEVENT
DTSTART;TZID=Europe/Berlin:20250924T160000
DTEND;TZID=Europe/Berlin:20250924T210000
DTSTAMP:20260424T195902
CREATED:20250407T155709Z
LAST-MODIFIED:20250509T115421Z
UID:27762-1758729600-1758747600@wordpress.boc.de
SUMMARY:BOC Stammtisch Darmstadt
DESCRIPTION:In Zusammenarbeit mit WatchGuard veranstalten wir in diesem Jahr drei Stammtische an verschiedenen Standorten. In entspannter Atmosphäre können Sie sich mit unseren IT-Security Experten über die neuesten Trends\, Best-Practices und aktuelle Bedrohungen austauschen. Freuen Sie sich auf spannende Diskussionen\, praxisnahe Einblicke und wertvolle Networking-Möglichkeiten! \nWeitere Informationen inkl. Anmeldeformular finden Sie unter >> BOC Stammtische 2025. \nJetzt anmelden!
URL:https://wordpress.boc.de/watchguard-info-portal/termine/boc-stammtisch-darmstadt/
CATEGORIES:Messen & sonstige Veranstaltungen
END:VEVENT
BEGIN:VEVENT
DTSTART;TZID=Europe/Berlin:20250926T090000
DTEND;TZID=Europe/Berlin:20250926T094500
DTSTAMP:20260424T195902
CREATED:20250917T131002Z
LAST-MODIFIED:20250917T131341Z
UID:29086-1758877200-1758879900@wordpress.boc.de
SUMMARY:BestPractices.live - Erweiterte Netzwerk-Schutzfunktionen der Firebox
DESCRIPTION:Inhalt:\nCyberbedrohungen entwickeln sich ständig weiter – vom Einsatz kompromittierter Geräte in Botnetzen bis hin zu anonymisierten Angriffen aus dem Darknet. Mit der WatchGuard Firebox stehen Ihnen leistungsstarke Funktionen zur Verfügung\, um Ihr Netzwerk zuverlässig abzusichern. \nIn diesem Webinar erfahren Sie\, wie die erweiterten Schutzmechanismen der Firebox wirken und welche Vorteile sie in der Praxis bieten: \n\nBotnet Protection – kompromittierte Clients automatisch erkennen und blockieren\nTor Exit Node Blocking – Angriffe über das Tor-Netzwerk zuverlässig stoppen\nGeolocation-Blocking – gezielte Kontrolle von Datenverkehr nach Herkunftsland\n\n\n\n\n\n\nJetzt zum Webinar anmelden!
URL:https://wordpress.boc.de/watchguard-info-portal/termine/bestpractices-live-erweiterte-netzwerk-schutzfunktionen-der-firebox/
LOCATION:Online Webinar bei Citrix GoToWebinar\, Onlineveranstaltung
CATEGORIES:WatchGuard Webinare
ATTACH;FMTTYPE=image/jpeg:https://wordpress.boc.de/watchguard-info-portal/wp-content/uploads/2019/11/wg-webinare_200x200.jpg
END:VEVENT
END:VCALENDAR