BEGIN:VCALENDAR
VERSION:2.0
PRODID:-//BOC IT-Security GmbH - ECPv6.7.0//NONSGML v1.0//EN
CALSCALE:GREGORIAN
METHOD:PUBLISH
X-ORIGINAL-URL:https://wordpress.boc.de/watchguard-info-portal
X-WR-CALDESC:Veranstaltungen für BOC IT-Security GmbH
REFRESH-INTERVAL;VALUE=DURATION:PT1H
X-Robots-Tag:noindex
X-PUBLISHED-TTL:PT1H
BEGIN:VTIMEZONE
TZID:Europe/Berlin
BEGIN:DAYLIGHT
TZOFFSETFROM:+0100
TZOFFSETTO:+0200
TZNAME:CEST
DTSTART:20250330T010000
END:DAYLIGHT
BEGIN:STANDARD
TZOFFSETFROM:+0200
TZOFFSETTO:+0100
TZNAME:CET
DTSTART:20251026T010000
END:STANDARD
END:VTIMEZONE
BEGIN:VEVENT
DTSTART;TZID=Europe/Berlin:20250801T090000
DTEND;TZID=Europe/Berlin:20250801T094500
DTSTAMP:20260424T214208
CREATED:20250713T215245Z
LAST-MODIFIED:20260330T092522Z
UID:28513-1754038800-1754041500@wordpress.boc.de
SUMMARY:BestPractices.live - ThreatSync+ NDR
DESCRIPTION:Inhalt:\nThreatSync+ NDR versetzt Sie und Ihre Kunden in die Lage\, moderne Cyber-Bedrohungen zu überlisten\, die andere Tools möglicherweise übersehen. Durch den Einsatz von fortschrittlichem maschinellem Lernen\, künstlicher Intelligenz und multidimensionaler Bedrohungserkennung bietet es eine umfassende Netzwerksicherheitsabdeckung bei gleichzeitiger Reduzierung von Fehlalarmen und Beschleunigung der Reaktionszeiten. \nDie Lösung wurde speziell für den Schutz von Netzwerken vor Bedrohungen entwickelt\, einschließlich ungeschützter IoT-Geräte\, Drucker\, Schatten-IT und anderer Geräte\, während gleichzeitig die Wirksamkeit von Firewall-Regeln überprüft und die Einhaltung von Compliance-Regeln sichergestellt wird. \nErfahren Sie in diesem Webinar alles über das Produkt ThreatSync+ NDR und wie Sie es effektiv einsetzen können. \nWebinaraufzeichnung jetzt ansehen!
URL:https://wordpress.boc.de/watchguard-info-portal/termine/bestpractices-live-threatsync-ndr/
LOCATION:Online Webinar bei Citrix GoToWebinar\, Onlineveranstaltung
CATEGORIES:WatchGuard Webinare
ATTACH;FMTTYPE=image/jpeg:https://wordpress.boc.de/watchguard-info-portal/wp-content/uploads/2019/11/wg-webinare_200x200.jpg
END:VEVENT
BEGIN:VEVENT
DTSTART;TZID=Europe/Berlin:20250829T090000
DTEND;TZID=Europe/Berlin:20250829T094500
DTSTAMP:20260424T214208
CREATED:20250731T081617Z
LAST-MODIFIED:20250731T082354Z
UID:28623-1756458000-1756460700@wordpress.boc.de
SUMMARY:BestPractices.live - Hybride Arbeitswelten absichern mit FireCloud Internet Access
DESCRIPTION:Inhalt:\nRemote- und Hybridarbeit sind die neue Norm\, aber Mitarbeiter erhalten in Remote-Umgebungen nicht das gleiche Maß an Schutz wie hinter einer Perimeter-Firewall im Büro. FireCloud Internet Access bietet umfassende Sicherheit für die Fernarbeit. \nNehmen Sie an diesem Webinar teil und erfahren Sie\, wie FireCloud dieselben Sicherheitsdienste wie die Firebox in einer SASE-Architektur für moderne\, hybride Umgebungen bietet. Die wichtigsten Highlights sind: \n\nWie Sie FireCloud Internet Access einfach einrichten und konfigurieren können\nEine Demo der enthaltenen Sicherheitsdienste und Berichte\nDie Vorteile des integrierten Zertifikats für die Überprüfung von HTTP-Inhalten\n\nJetzt zum Webinar anmelden!
URL:https://wordpress.boc.de/watchguard-info-portal/termine/bestpractices-live-hybride-arbeitswelten-absichern-mit-firecloud-internet-access/
LOCATION:Online Webinar bei Citrix GoToWebinar\, Onlineveranstaltung
CATEGORIES:WatchGuard Webinare
ATTACH;FMTTYPE=image/jpeg:https://wordpress.boc.de/watchguard-info-portal/wp-content/uploads/2019/11/wg-webinare_200x200.jpg
END:VEVENT
END:VCALENDAR