BEGIN:VCALENDAR
VERSION:2.0
PRODID:-//BOC IT-Security GmbH - ECPv6.7.0//NONSGML v1.0//EN
CALSCALE:GREGORIAN
METHOD:PUBLISH
X-WR-CALNAME:BOC IT-Security GmbH
X-ORIGINAL-URL:https://wordpress.boc.de/watchguard-info-portal
X-WR-CALDESC:Veranstaltungen für BOC IT-Security GmbH
REFRESH-INTERVAL;VALUE=DURATION:PT1H
X-Robots-Tag:noindex
X-PUBLISHED-TTL:PT1H
BEGIN:VTIMEZONE
TZID:Europe/Berlin
BEGIN:DAYLIGHT
TZOFFSETFROM:+0100
TZOFFSETTO:+0200
TZNAME:CEST
DTSTART:20250330T010000
END:DAYLIGHT
BEGIN:STANDARD
TZOFFSETFROM:+0200
TZOFFSETTO:+0100
TZNAME:CET
DTSTART:20251026T010000
END:STANDARD
END:VTIMEZONE
BEGIN:VEVENT
DTSTART;TZID=Europe/Berlin:20250703T140000
DTEND;TZID=Europe/Berlin:20250703T210000
DTSTAMP:20260424T231941
CREATED:20250218T084750Z
LAST-MODIFIED:20250424T103517Z
UID:27269-1751551200-1751576400@wordpress.boc.de
SUMMARY:BOC Sommerfest 2025
DESCRIPTION:Unser jährliches Sommerfest lädt zum Austausch in entspannter Atmosphäre ein! \nEs erwartet Sie ein abwechslungsreiches Programm mit kulinarischen Köstlichkeiten\, erfrischenden Getränken & einer spannenden Live-Hacking Vorführung. \nNeben dem Networking mit anderen Geschäftspartnern bieten wir Ihnen auch die Möglichkeit unser Team sowie unseren Standort besser kennenzulernen und sich über aktuelle Produkte und Entwicklungen von WatchGuard und der IT-Branche auszutauschen. \nZur Anmeldung
URL:https://wordpress.boc.de/watchguard-info-portal/termine/boc-sommerfest-2025/
LOCATION:BOC IT-Security GmbH\, Essener Str. 2-24\, Oberhausen\, 46047\, Deutschland
CATEGORIES:Messen & sonstige Veranstaltungen
END:VEVENT
BEGIN:VEVENT
DTSTART;TZID=Europe/Berlin:20250704T090000
DTEND;TZID=Europe/Berlin:20250704T094500
DTSTAMP:20260424T231941
CREATED:20250624T145109Z
LAST-MODIFIED:20250624T145421Z
UID:28448-1751619600-1751622300@wordpress.boc.de
SUMMARY:BestPractices.live - Neue Funktionen in der Unified Security Platform Q3/25
DESCRIPTION:Inhalt:\nDie Unified Security Platform von WatchGuard wurde von Grund auf entwickelt\, um effiziente\, leistungsstarke Sicherheitsservices mit erhöhter Skalierbarkeit\, Geschwindigkeit und betrieblicher Effizienz zu ermöglichen. WatchGuards Produktteams entwickeln kontinuierlich Updates für WatchGuards Portfolio an Netzwerk-\, Endpunkt- und Identitätssicherheitsprodukten\, um den Schutz Ihrer Umgebungen\, Benutzer und Geräte zu vereinfachen. \nNehmen Sie an diesem Webinar teil\, um mehr über die neuen Funktionen und Möglichkeiten zu erfahren\, die in den letzten drei Monaten hinzugefügt wurden. Zu den wichtigsten Highlights gehören: \n\nBotnet-Verbesserungen auf der Firewall\nNeue Always-on-Funktionen für FireCloud\nAuthPoint als externe Authentifizierungsmethode (EAM) für EntraID\nIntegration der ActZero MDR-Konsole in WatchGuard Cloud\nAccess Point ThreatSync Response Actions-Funktion\n\n\n\n\n\n\n\nJetzt zum Webinar anmelden!
URL:https://wordpress.boc.de/watchguard-info-portal/termine/bestpractices-live-neue-funktionen-in-der-unified-security-platform-q3-25/
LOCATION:Online Webinar bei Citrix GoToWebinar\, Onlineveranstaltung
CATEGORIES:WatchGuard Webinare
ATTACH;FMTTYPE=image/jpeg:https://wordpress.boc.de/watchguard-info-portal/wp-content/uploads/2019/11/wg-webinare_200x200.jpg
END:VEVENT
BEGIN:VEVENT
DTSTART;TZID=Europe/Berlin:20250708T090000
DTEND;TZID=Europe/Berlin:20250708T170000
DTSTAMP:20260424T231941
CREATED:20241114T201638Z
LAST-MODIFIED:20241114T201658Z
UID:25739-1751965200-1751994000@wordpress.boc.de
SUMMARY:Endpoint Security Essentials-Schulung
DESCRIPTION:Endpoint Security Essentials-Schulung\n\n\n\n\nZum Anmeldeformular\n\n\nZIELE:\n\n\nVermittlung eines grundlegenden Verständnisses der Funktionen\, Komponenten und Anwendungsmöglichkeiten von WatchGuard Endpoint Security Produkten wie 360 (ehemals EPDR)\nErlernen der effizienten Erkennung\, Analyse und Abwehr von Bedrohungen durch die richtige Konfiguration und Nutzung\nEinblick in das zentrale Management und die Verwaltung von Endpunkt-Sicherheitslösungen\, einschließlich des Einsatzes von Automatisierung zur Erhöhung der Sicherheit.\nErlernen der Verwendung zusätzlicher Module (wie z.B. Patch Management) zur Erweiterung der Grundfunktionen\, um spezifische Sicherheitsanforderungen zu erfüllen.\nEinführung in Best Practices für die Konfiguration und Verwaltung sowie grundlegende Fehlerbehebung und -analyse für eine effiziente Nutzung im Arbeitsalltag.\n\n\n\n\nZIELGRUPPE:\nDiese Schulung richtet sich an IT-Fachkräfte\, die ein tiefes Verständnis für die Absicherung von Endgeräten benötigen\, um die Infrastruktur ihres Unternehmens oder ihrer Kunden vor Bedrohungen zu schützen.\n\n\nVORAUSSETZUNGEN:\nEin Basiswissen über IT-Sicherheitskonzepte und die Bedrohungslandschaft ist erforderlich\, um den Aufbau und die Funktionsweise von Endpoint Security-Lösungen zu verstehen. Kenntnisse in Netzwerkadministration sowie grundlegende Erfahrung mit der Administration von Endgeräten und deren Betriebssystemen erleichtern das Verständnis und die praktische Umsetzung der Inhalte. Das Seminar wird in deutscher Sprache gehalten. Für eine erfolgreiche Teilnahme müssen Grundkenntnisse in englischer Sprache vorhanden sein\, um den in Englisch gehaltenen Seminarunterlagen und der Bedieneroberfläche folgen zu können.\n\n\nINHALT:\nDie Inhaltsangabe ist ein grober “Fahrplan”\, wobei einzelne Themen nach Bedarf der Schulungsteilnehmer in gekürzter Form oder entsprechend detaillierter durchgesprochen werden. \n\nGrundlagen der Endpoint Security\nWatchGuard Endpoint Security 360 (ehemals EPDR) & WatchGuard Endpoint Security Elite (ehemals Advanced EPDR)\nZusatzmodule wie Patch Management\n\n\n\n\nECKDATEN:\n\n\nDauer: 1 Tag (jeweils 09:00-17:00 Uhr)\, Termine siehe weiter unten.\nDie Schulungen werden ausschließlich online angeboten.\nTeilnahmegebühr: 750\,00 Euro zzgl. MwSt. pro Person inkl. Schulungsunterlagen (PDF).\nDie Rechnungsstellung erfolgt vorab. Nach Eingang Ihrer Zahlung erhalten Sie eine schriftliche Bestätigung.\nBei Verhinderung des angemeldeten Teilnehmers kann eine Ersatzperson benannt werden.\nEine Umbuchung auf einen späteren Termin ist gegen eine Gebühr von 100\,00 Euro möglich.\nSollte ein gebuchter Termin ausfallen\, erfolgt eine kostenfreie Umbuchung auf einen späteren Termin. Bei zu geringer Teilnehmerzahl behalten wir uns vor\, den Termin zu verlegen oder abzusagen.\nEine Rückerstattung ist jedoch ausgeschlossen.\n\n\n\n\n\n				\n			\n\n				\n\n\nOnline-Schulung | \nZum Anmeldeformular
URL:https://wordpress.boc.de/watchguard-info-portal/termine/endpoint-security-essentials-schulung-2025-07/
CATEGORIES:WatchGuard Schulungen
ATTACH;FMTTYPE=image/jpeg:https://wordpress.boc.de/watchguard-info-portal/wp-content/uploads/2019/06/boc-schulungen_200x200.jpg
ORGANIZER;CN="BOC IT-Security GmbH":MAILTO:info@boc.de
END:VEVENT
BEGIN:VEVENT
DTSTART;TZID=Europe/Berlin:20250710T160000
DTEND;TZID=Europe/Berlin:20250710T210000
DTSTAMP:20260424T231941
CREATED:20250407T155801Z
LAST-MODIFIED:20250407T155826Z
UID:27764-1752163200-1752181200@wordpress.boc.de
SUMMARY:BOC Stammtisch München
DESCRIPTION:In Zusammenarbeit mit WatchGuard veranstalten wir in diesem Jahr drei Stammtische an verschiedenen Standorten. In entspannter Atmosphäre können Sie sich mit unseren IT-Security Experten über die neuesten Trends\, Best-Practices und aktuelle Bedrohungen austauschen. Freuen Sie sich auf spannende Diskussionen\, praxisnahe Einblicke und wertvolle Networking-Möglichkeiten! \nWeitere Informationen inkl. Anmeldeformular finden Sie unter >> BOC Stammtische 2025. \nJetzt anmelden!
URL:https://wordpress.boc.de/watchguard-info-portal/termine/boc-stammtisch-muenchen/
CATEGORIES:Messen & sonstige Veranstaltungen
END:VEVENT
BEGIN:VEVENT
DTSTART;TZID=Europe/Berlin:20250715T090000
DTEND;TZID=Europe/Berlin:20250718T160000
DTSTAMP:20260424T231941
CREATED:20241112T101007Z
LAST-MODIFIED:20250407T152745Z
UID:25650-1752570000-1752854400@wordpress.boc.de
SUMMARY:Network Security Essentials-Schulung Fireware 12
DESCRIPTION:Network Security Essentials-Schulung (Fireware Essentials)\n\n\n\n\nZum Anmeldeformular\n\n\nZIELE:\nDieser Kurs vermittelt die notwendigen Kenntnisse\, um eine WatchGuard Firebox in ein LAN/WAN-Netz zu integrieren\, zu konfigurieren und zu überwachen. Der Kurs soll einen möglichst vollständigen Überblick über die vorhandenen Fähigkeiten der WatchGuard Firebox bieten. Der Kurs enthält die Grundlagen\, die Inbetriebnahme\, die Lizensierung\, die Konfiguration der Policies und Security Services\, Trouble-Shooting sowie Logging und Reporting. Es wird gezeigt\, wie mit WatchGuard ein Site-to-Site VPN (Branch Office VPN) zwischen mehreren Standorten sicher konfiguriert und betrieben wird. Außerdem werden die verschiedenen Technologien vorgestellt\, mit denen Mobile User per Dial-In VPN sicher an das Firmennetzwerk angebunden werden können (IPSec\, SSL-VPN und L2TP). Ein Überblick über die Add-Ons wie Gateway-Wireless Controller und FireCluster runden den Workshop ab. Schwerpunkte werden anhand der Bedürfnisse der Workshop-Teilnehmer im Vorfeld besprochen und gerne berücksichtigt.\n\n\nZIELGRUPPE:\nDiese Schulung wendet sich an Netzwerk Administratoren und Techniker\, die eine WatchGuard Firebox / XTM Firewall VPN Appliance mit dem aktuellen Betriebssystem Fireware XTM v12.x in ihrer LAN/WAN-Umgebung installieren und administrieren sollen.\n\n\nVORAUSSETZUNGEN:\nGrundkenntnisse über Netzwerkadministration\, IP-Adressierung\, Handhabung von IP-Subnetzen\, Routing und Internet-Zugangstechnologien (klassische Standleitung\, DSL\, ISDN\, LTE/UMTS (4G/3G)) werden vorausgesetzt. Das Seminar wird in deutscher Sprache gehalten. Für eine erfolgreiche Teilnahme müssen Grundkenntnisse in englischer Sprache vorhanden sein\, um den in Englisch gehaltenen Seminarunterlagen und der Bedieneroberfläche folgen zu können.\n\n\nINHALT:\nDie Inhaltsangabe ist ein grober “Fahrplan”\, wobei einzelne Themen nach Bedarf der Schulungsteilnehmer in gekürzter Form oder entsprechend detaillierter durchgesprochen werden. Nachfolgend der typische Ablauf einer 4-Tages-Schulung \nTag 1: \n\nÜbersicht über die verfügbaren zusätzlichen Security Services (WebBlocker\, spamBlocker\, Gateway Antivirus\, Intrusion Prevention Service\, Application Control\, Reputation Enabled Defense\, BotNet Detection\, Geolocation\, Data Loss Prevention\, APT Blocker\, EDR Core\, ThreatSync (XDR)\, Mobile Security)\nUnterschied Paketfilter-Firewall und Security Gateway\nSecurity Principles\, Application Proxy und Packet Filter\nFirebox Basics (WatchGuard System Manager\, Management Server\, Web-UI\, Tools)\nInbetriebnahme – Installation Wizard – Lizensierung – Feature Key\nNetzwerk-Konfiguration der Firewall-Interfaces (Static IP\, DHCP\, PPPoE)\nDie Verwendung von Aliases\nHinzufügen und Konfiguration von Policies – Teil 1: Packet Filter\n\nUnterschied zwischen Packet Filter Policies und Proxy Policies\nStandard Policy-Types\nCustom Policy-Types\nManual Order Mode vs. Auto Order Mode – Reihenfolge der Policies Teil 1\nDynamic NAT vs. 1-to-1 NAT vs. Static NAT (SNAT)\n\n\n\nTag 2: \n\nHinzufügen und Konfiguration von Policies – Teil 2: Application Proxies\n\nSecurity Services in den Policies: Proxy-Services\nKonfiguration der Proxy-Services (WebBlocker\, spamBlocker\, Gateway Antivirus\, Intrusion Prevention Service\, Application Control\, Reputation Enabled Defense\, BotNet Detection\, Geolocation\, Data Loss Prevention\, APT Blocker\, EDR Core\, ThreatSync (XDR)\, Mobile Security)\nManual Order Mode vs. Auto Order Mode – Reihenfolge der Policies Teil 2\n\n\nGrundlagen Symmetrische / Asymmetrische Verschlüsselung\nGrundlagen Zertifikate / Zertifikatsketten / Signaturen\nHTTPS Deep Inspection / Content-Inspection\nUser Authentication und Authentication Servers.\n\nAnbindung an RADIUS\nActive Directory\nSingle Sign On\n\n\nRole Based Internet Access basierend auf Usern oder Gruppen (Active Directory oder lokale Firebox-DB)\n\nTag 3: \n\nBranch Office VPN mit IPSec (Standortverbindungen\, Site-to-Site-VPN)\nMobile User VPN (gesicherte Anbindung mobiler Benutzer)\n\nSSL VPN / OpenVPN – Unterschiede und Gemeinsamkeiten / Verschiedene Endgeräte\nMehrstufiges Rechteschema bei VPN Login\nAusblick: Mobile VPN mit L2TP & IPSec\nAusblick: Mobile VPN mit IKEv2 / VPN before Logon\n\n\nSetup & Betrieb eines Firebox Clusters\nÜberblick: WatchGuard Management Server \n\nzentralisierte Verwaltung mehrerer WatchGuard Fireboxen\nVerwaltung von VPNs \nPolicy Templates\n\n\n\nTag 4 \n\nGateway Wireless Controller – WLAN mit mehreren SSIDs auf unterschiedlichen VLANs\nHotspot Funktionalität – Gäste-Netzwerk mit WLAN Vouchers\nAccess Portal\nAuthPoint / MFA\nMonitoring (Firebox System Monitor\, Bandwidth Meter\, Authenticated Users\, HostWatch\, WebUI\, Network Discovery)\nLogging – Installation und Konfiguration eines WatchGuard Dimension Servers\nReporting – Arbeiten mit dem WatchGuard Dimension Server\nÜberblick: WatchGuard Wi-Fi Cloud\, Wireless Intrusion Prevention System (WIPS)\nÜberblick: EDR Core\nÜberblick: WatchGuard Cloud\n\nLogging in die Cloud\nCloud-Managed Fireboxes\n\n\n\n\n\n\nECKDATEN:\n\n\nDauer: 4 Tage (jeweils 09:00-16:00 Uhr)\, Termine siehe weiter unten.\nDie Schulungen werden entweder in Präsenz in Oberhausen\, online oder als Hybrid-Schulung (Präsenz-Schulung mit zusätzlichen Online-Teilnehmern) angeboten.\nTeilnahmegebühr Online: 2.300\,00 Euro zzgl. MwSt. pro Person inkl. Schulungsunterlagen (PDF).\nTeilnahmegebühr Präsenz: 2.700\,00 Euro zzgl. MwSt. pro Person inkl. Schulungsunterlagen (PDF).\nAb zwei Personen aus dem gleichen Unternehmen reduziert sich die Teilnahmegebühr um 200\,00 Euro pro Person.\nDie Rechnungsstellung erfolgt vorab. Nach Eingang Ihrer Zahlung erhalten Sie eine schriftliche Bestätigung.\nBei Verhinderung des angemeldeten Teilnehmers kann eine Ersatzperson benannt werden.\nEine Umbuchung auf einen späteren Termin ist gegen eine Gebühr von 100\,00 Euro möglich.\nSollte ein gebuchter Termin ausfallen\, erfolgt eine kostenfreie Umbuchung auf einen späteren Termin. Bei zu geringer Teilnehmerzahl behalten wir uns vor\, den Termin zu verlegen oder abzusagen.\nEine Rückerstattung ist jedoch ausgeschlossen.\nBesonderes Highlight:\nAlle Teilnehmer der Network Security Essentials-Schulung haben die einmalige Gelegenheit eine WatchGuard Firebox T145-W mit 3 Jahren Total Security für nur 444 € zzgl. MwSt. (statt ca. 3600 €) als Test-Box für ihr Home-Lab zu erwerben. Das Angebot ist auf eine Box pro Teilnehmer begrenzt.\n\n\n\n\n\n  \n				\n			\n\n				\n\n\nPräsenz-Schulung | \nZum Anmeldeformular
URL:https://wordpress.boc.de/watchguard-info-portal/termine/network-security-essentials-schulung-fireware-v12-2025-07/
CATEGORIES:WatchGuard Schulungen
ATTACH;FMTTYPE=image/jpeg:https://wordpress.boc.de/watchguard-info-portal/wp-content/uploads/2019/06/boc-schulungen_200x200.jpg
ORGANIZER;CN="BOC IT-Security GmbH":MAILTO:info@boc.de
END:VEVENT
BEGIN:VEVENT
DTSTART;TZID=Europe/Berlin:20250718T090000
DTEND;TZID=Europe/Berlin:20250718T094500
DTSTAMP:20260424T231941
CREATED:20250713T212901Z
LAST-MODIFIED:20260121T165830Z
UID:28507-1752829200-1752831900@wordpress.boc.de
SUMMARY:BestPractices.live - Patch Management
DESCRIPTION:Inhalt:\nIn der heutigen Cybersicherheitslandschaft sehen sich kleine und mittelständische Unternehmen (KMU) mit immer raffinierteren Bedrohungen konfrontiert\, die zu erheblichen finanziellen und betrieblichen Störungen führen können. Die Patch-Verwaltung ist ein wichtiger Schritt\, um sicherzustellen\, dass Ihr Unternehmen gegen bekannte Schwachstellen geschützt ist\, die häufig von Angreifern ausgenutzt werden. \nWatchGuard Patch Management ist eine Lösung\, die Benutzern Klarheit und Kontrolle über ihre Umgebung verschafft. Administratoren können die Verfügbarkeit der neuesten Betriebssystem- und Anwendungspatches überwachen und ausstehende Patches sofort nach Kritikalität oder nach Gerät anzeigen. Patch Management weist auch auf auslaufende Software hin\, die nicht mehr gepatcht wird und eine Bedrohung für ihr Netzwerk darstellt. \nIn diesem Webinar geht es u.a. um folgende praktischen Inhalte zum Thema Patch Management: \n\nBedrohungslandschaft\nSchwachstellenbewertung\nSchwachstellenmanagement\nVerringerung der Angriffsfläche\n\nWebinaraufzeichnung jetzt ansehen!
URL:https://wordpress.boc.de/watchguard-info-portal/termine/bestpractices-live-patch-management/
LOCATION:Online Webinar bei Citrix GoToWebinar\, Onlineveranstaltung
CATEGORIES:WatchGuard Webinare
ATTACH;FMTTYPE=image/jpeg:https://wordpress.boc.de/watchguard-info-portal/wp-content/uploads/2019/11/wg-webinare_200x200.jpg
END:VEVENT
BEGIN:VEVENT
DTSTART;TZID=Europe/Berlin:20250722T150000
DTEND;TZID=Europe/Berlin:20250722T154500
DTSTAMP:20260424T231941
CREATED:20250713T213522Z
LAST-MODIFIED:20260224T095922Z
UID:28510-1753196400-1753199100@wordpress.boc.de
SUMMARY:BestPractices.live - Die Rolle von MDR beim Schutz von Identitäten\, Cloud\, Endgeräten und Netzwerken
DESCRIPTION:Inhalt:\nCyber-Bedrohungen entwickeln sich in allen Bereichen Ihrer IT-Umgebung\, von Endgeräten und Cloud-Plattformen bis hin zu Benutzeridentitäten und Netzwerkschichten\, weshalb herkömmliche Tools nicht mehr mithalten können. In diesem Webinar wird gezeigt\, wie Managed Detection and Response (MDR) koordinierten Schutz über alle vier Angriffsflächen hinweg bietet und wie MDR Bedrohungen in jedem Layer identifiziert und stoppt\, welche Signale am wichtigsten sind und wie Partner mit weniger Lärm\, weniger Fehlalarmen und schnelleren Reaktionszeiten bessere Ergebnisse erzielen können. \nIn diesem Webinar geht es u.a. um folgende praktischen Inhalte zum Thema MDR: \n\nErfahren Sie\, wie MDR Bedrohungen über Identität\, Cloud\, Endpunkte und Netzwerk hinweg erkennt und stoppt – noch bevor Schaden entsteht.\nVerstehen Sie\, warum isolierte Tools nicht ausreichen und wie eine einheitliche Bedrohungstransparenz alles verändert.\nLernen Sie\, wie WatchGuard MDR künstliche Intelligenz und menschliche Expertise kombiniert\, um den Lärm zu reduzieren und die Reaktion zu beschleunigen.\nEntdecken Sie\, wie Partner Sicherheitsdienste skalieren und bessere Ergebnisse erzielen können – ohne zusätzliche Tools oder mehr Personal.\n\nWebinaraufzeichnung jetzt ansehen!
URL:https://wordpress.boc.de/watchguard-info-portal/termine/bestpractices-live-die-rolle-von-mdr-beim-schutz-von-identitaeten-cloud-endgeraeten-und-netzwerken/
LOCATION:Online Webinar bei Citrix GoToWebinar\, Onlineveranstaltung
CATEGORIES:WatchGuard Webinare
ATTACH;FMTTYPE=image/jpeg:https://wordpress.boc.de/watchguard-info-portal/wp-content/uploads/2019/11/wg-webinare_200x200.jpg
END:VEVENT
END:VCALENDAR