BEGIN:VCALENDAR
VERSION:2.0
PRODID:-//BOC IT-Security GmbH - ECPv6.7.0//NONSGML v1.0//EN
CALSCALE:GREGORIAN
METHOD:PUBLISH
X-ORIGINAL-URL:https://wordpress.boc.de/watchguard-info-portal
X-WR-CALDESC:Veranstaltungen für BOC IT-Security GmbH
REFRESH-INTERVAL;VALUE=DURATION:PT1H
X-Robots-Tag:noindex
X-PUBLISHED-TTL:PT1H
BEGIN:VTIMEZONE
TZID:Europe/Berlin
BEGIN:DAYLIGHT
TZOFFSETFROM:+0100
TZOFFSETTO:+0200
TZNAME:CEST
DTSTART:20240331T010000
END:DAYLIGHT
BEGIN:STANDARD
TZOFFSETFROM:+0200
TZOFFSETTO:+0100
TZNAME:CET
DTSTART:20241027T010000
END:STANDARD
END:VTIMEZONE
BEGIN:VEVENT
DTSTART;TZID=Europe/Berlin:20241108T090000
DTEND;TZID=Europe/Berlin:20241108T094500
DTSTAMP:20260425T122843
CREATED:20241030T122454Z
LAST-MODIFIED:20250211T115451Z
UID:25571-1731056400-1731059100@wordpress.boc.de
SUMMARY:BestPractices.live - Firebox Zertifikate
DESCRIPTION:Inhalt:\nZertifikate verbinden die Identität einer Person oder eines Unternehmens mit einer Methode\, die es anderen ermöglicht\, diese Identität zu überprüfen und die Kommunikation zu sichern. Nehmen Sie an diesem Webinar teil und erfahren Sie mehr über Zertifikate auf der Firebox. WatchGuard Security-Experten zeigen Ihnen\, wie Sie häufige Fallstricke vermeiden können und welche Best Practices für die Bereitstellung und Verwaltung von Zertifikaten in Ihrer Umgebung gelten. Das Team wird verschiedene Möglichkeiten der Nutzung von Zertifikaten durch die WatchGuard Firebox behandeln\, darunter: \n\nVPNs mit Zertifikaten zur Authentifizierung\nInhaltsprüfung für ausgehendes HTTPS unter Verwendung eines Zertifikats zur Wiederverschlüsselung des Datenverkehrs nach der Entschlüsselung für die Prüfung\nFirebox-Verwaltungssitzungsdaten\n\nWebinaraufzeichnung jetzt ansehen!
URL:https://wordpress.boc.de/watchguard-info-portal/termine/bestpractices-live-firebox-zertifikate/
LOCATION:Online Webinar bei Citrix GoToWebinar\, Onlineveranstaltung
CATEGORIES:WatchGuard Webinare
ATTACH;FMTTYPE=image/jpeg:https://wordpress.boc.de/watchguard-info-portal/wp-content/uploads/2019/11/wg-webinare_200x200.jpg
END:VEVENT
BEGIN:VEVENT
DTSTART;TZID=Europe/Berlin:20241112T150000
DTEND;TZID=Europe/Berlin:20241112T150000
DTSTAMP:20260425T122843
CREATED:20240930T115826Z
LAST-MODIFIED:20250220T093626Z
UID:25081-1731423600-1731423600@wordpress.boc.de
SUMMARY:BestPractices.live - (Wieder-)Entdeckung der verborgenen Vorteile von Single Sign-On (SSO)
DESCRIPTION:Inhalt:\nEs gibt keinen besseren Zeitpunkt\, um den versteckten Wert von Single Sign-On als Teil Ihrer Reise zu Zero Trust (wieder) zu entdecken. \n\n\nSingle Sign-On (SSO) verbindet Einfachheit mit Sicherheit\, indem es die Reibungsverluste für Benutzer beim Zugriff auf Anwendungen beseitigt und den Verwaltungsaufwand und die Risiken für die IT-Abteilung im Zusammenhang mit der Passwortverwaltung reduziert. In diesem Webinar erfahren Sie: \n\n\n\nWie SSO es ermöglicht\, Zugangskontrolle und Endbenutzerproduktivität in Einklang zu bringen.\nWie sich SSO für moderne\, webbasierte Anwendungen in einer Cloud-first-Welt entwickelt hat.\nWie sichergestellt werden kann\, dass SSO mit Ihrer Zero-Trust-Informationssicherheitsstrategie in Einklang steht.\nTipps zur Steigerung der Effizienz.\n\nJetzt Webinaraufzeichnung ansehen!
URL:https://wordpress.boc.de/watchguard-info-portal/termine/bestpractices-live-wieder-entdeckung-der-verborgenen-vorteile-von-single-sign-on-sso/
LOCATION:Online Webinar bei Citrix GoToWebinar\, Onlineveranstaltung
CATEGORIES:WatchGuard Webinare
ATTACH;FMTTYPE=image/jpeg:https://wordpress.boc.de/watchguard-info-portal/wp-content/uploads/2019/11/wg-webinare_200x200.jpg
END:VEVENT
BEGIN:VEVENT
DTSTART;TZID=Europe/Berlin:20241119T090000
DTEND;TZID=Europe/Berlin:20241122T160000
DTSTAMP:20260425T122843
CREATED:20240418T125232Z
LAST-MODIFIED:20241001T131953Z
UID:20260-1732006800-1732291200@wordpress.boc.de
SUMMARY:Network Security Essentials-Schulung Fireware 12
DESCRIPTION:Network Security Essentials-Schulung (Fireware Essentials)\n\n\n\n\nZum Anmeldeformular\n\n\nZIELE:\nDieser Kurs vermittelt die notwendigen Kenntnisse\, um eine WatchGuard Firebox in ein LAN/WAN-Netz zu integrieren\, zu konfigurieren und zu überwachen. Der Kurs soll einen möglichst vollständigen Überblick über die vorhandenen Fähigkeiten der WatchGuard Firebox bieten. Der Kurs enthält die Grundlagen\, die Inbetriebnahme\, die Lizensierung\, die Konfiguration der Policies und Security Services\, Trouble-Shooting sowie Logging und Reporting. Es wird gezeigt\, wie mit WatchGuard ein Site-to-Site VPN (Branch Office VPN) zwischen mehreren Standorten sicher konfiguriert und betrieben wird. Außerdem werden die verschiedenen Technologien vorgestellt\, mit denen Mobile User per Dial-In VPN sicher an das Firmennetzwerk angebunden werden können (IPSec\, SSL-VPN und L2TP). Ein Überblick über die Add-Ons wie Gateway-Wireless Controller und FireCluster runden den Workshop ab. Schwerpunkte werden anhand der Bedürfnisse der Workshop-Teilnehmer im Vorfeld besprochen und gerne berücksichtigt.\n\n\nZIELGRUPPE:\nDiese Schulung wendet sich an Netzwerk Administratoren und Techniker\, die eine WatchGuard Firebox / XTM Firewall VPN Appliance mit dem aktuellen Betriebssystem Fireware XTM v12.x in ihrer LAN/WAN-Umgebung installieren und administrieren sollen.\n\n\nVORAUSSETZUNGEN:\nGrundkenntnisse über Netzwerkadministration\, IP-Adressierung\, Handhabung von IP-Subnetzen\, Routing und Internet-Zugangstechnologien (klassische Standleitung\, DSL\, ISDN\, LTE/UMTS (4G/3G)) werden vorausgesetzt. Das Seminar wird in deutscher Sprache gehalten. Für eine erfolgreiche Teilnahme müssen Grundkenntnisse in englischer Sprache vorhanden sein\, um den in Englisch gehaltenen Seminarunterlagen und der Bedieneroberfläche folgen zu können.\n\n\nINHALT:\nDie Inhaltsangabe ist ein grober “Fahrplan”\, wobei einzelne Themen nach Bedarf der Schulungsteilnehmer in gekürzter Form oder entsprechend detaillierter durchgesprochen werden. Nachfolgend der typische Ablauf einer 4-Tages-Schulung \nTag 1: \n\nÜbersicht über die verfügbaren zusätzlichen Security Services (WebBlocker\, spamBlocker\, Gateway Antivirus\, Intrusion Prevention Service\, Application Control\, Reputation Enabled Defense\, BotNet Detection\, Geolocation\, Data Loss Prevention\, APT Blocker\, EDR Core\, ThreatSync (XDR)\, Mobile Security)\nUnterschied Paketfilter-Firewall und Security Gateway\nSecurity Principles\, Application Proxy und Packet Filter\nFirebox Basics (WatchGuard System Manager\, Management Server\, Web-UI\, Tools)\nInbetriebnahme – Installation Wizard – Lizensierung – Feature Key\nNetzwerk-Konfiguration der Firewall-Interfaces (Static IP\, DHCP\, PPPoE)\nDie Verwendung von Aliases\nHinzufügen und Konfiguration von Policies – Teil 1: Packet Filter\n\nUnterschied zwischen Packet Filter Policies und Proxy Policies\nStandard Policy-Types\nCustom Policy-Types\nManual Order Mode vs. Auto Order Mode – Reihenfolge der Policies Teil 1\nDynamic NAT vs. 1-to-1 NAT vs. Static NAT (SNAT)\n\n\n\nTag 2: \n\nHinzufügen und Konfiguration von Policies – Teil 2: Application Proxies\n\nSecurity Services in den Policies: Proxy-Services\nKonfiguration der Proxy-Services (WebBlocker\, spamBlocker\, Gateway Antivirus\, Intrusion Prevention Service\, Application Control\, Reputation Enabled Defense\, BotNet Detection\, Geolocation\, Data Loss Prevention\, APT Blocker\, EDR Core\, ThreatSync (XDR)\, Mobile Security)\nManual Order Mode vs. Auto Order Mode – Reihenfolge der Policies Teil 2\n\n\nGrundlagen Symmetrische / Asymmetrische Verschlüsselung\nGrundlagen Zertifikate / Zertifikatsketten / Signaturen\nHTTPS Deep Inspection / Content-Inspection\nUser Authentication und Authentication Servers.\n\nAnbindung an RADIUS\nActive Directory\nSingle Sign On\n\n\nRole Based Internet Access basierend auf Usern oder Gruppen (Active Directory oder lokale Firebox-DB)\n\nTag 3: \n\nBranch Office VPN mit IPSec (Standortverbindungen\, Site-to-Site-VPN)\nMobile User VPN (gesicherte Anbindung mobiler Benutzer)\n\nSSL VPN / OpenVPN – Unterschiede und Gemeinsamkeiten / Verschiedene Endgeräte\nMehrstufiges Rechteschema bei VPN Login\nAusblick: Mobile VPN mit L2TP & IPSec\nAusblick: Mobile VPN mit IKEv2 / VPN before Logon\n\n\nSetup & Betrieb eines Firebox Clusters\nÜberblick: WatchGuard Management Server \n\nzentralisierte Verwaltung mehrerer WatchGuard Fireboxen\nVerwaltung von VPNs \nPolicy Templates\n\n\n\nTag 4 \n\nGateway Wireless Controller – WLAN mit mehreren SSIDs auf unterschiedlichen VLANs\nHotspot Funktionalität – Gäste-Netzwerk mit WLAN Vouchers\nAccess Portal\nAuthPoint / MFA\nMonitoring (Firebox System Monitor\, Bandwidth Meter\, Authenticated Users\, HostWatch\, WebUI\, Network Discovery)\nLogging – Installation und Konfiguration eines WatchGuard Dimension Servers\nReporting – Arbeiten mit dem WatchGuard Dimension Server\nÜberblick: WatchGuard Wi-Fi Cloud\, Wireless Intrusion Prevention System (WIPS)\nÜberblick: EDR Core\nÜberblick: WatchGuard Cloud\n\nLogging in die Cloud\nCloud-Managed Fireboxes\n\n\n\n\n\n\nECKDATEN:\n\n\nDauer: 4 Tage (jeweils 09:00-16:00 Uhr)\, Termine siehe weiter unten.\nDie Schulungen werden entweder in Präsenz in Oberhausen\, online oder als Hybrid-Schulung (Präsenz-Schulung mit zusätzlichen Online-Teilnehmern) angeboten.\nTeilnahmegebühr Online: 2.300\,00 Euro zzgl. MwSt. pro Person inkl. Schulungsunterlagen (PDF).\nTeilnahmegebühr Präsenz: 2.700\,00 Euro zzgl. MwSt. pro Person inkl. Schulungsunterlagen (PDF).\nAb zwei Personen aus dem gleichen Unternehmen reduziert sich die Teilnahmegebühr um 200\,00 Euro pro Person.\nDie Rechnungsstellung erfolgt vorab. Nach Eingang Ihrer Zahlung erhalten Sie eine schriftliche Bestätigung.\nBei Verhinderung des angemeldeten Teilnehmers kann eine Ersatzperson benannt werden.\nEine Umbuchung auf einen späteren Termin ist gegen eine Gebühr von 100\,00 Euro möglich.\nSollte ein gebuchter Termin ausfallen\, erfolgt eine kostenfreie Umbuchung auf einen späteren Termin. Bei zu geringer Teilnehmerzahl behalten wir uns vor\, den Termin zu verlegen oder abzusagen.\nEine Rückerstattung ist jedoch ausgeschlossen.\nBesonderes Highlight:\nAlle Teilnehmer der Network Security Essentials-Schulung haben die einmalige Gelegenheit eine WatchGuard Firebox T145-W mit 3 Jahren Total Security für nur 444 € zzgl. MwSt. (statt ca. 3600 €) als Test-Box für ihr Home-Lab zu erwerben. Das Angebot ist auf eine Box pro Teilnehmer begrenzt.\n\n\n\n\n\n  \n				\n			\n\n				\n\n\nPräsenz/Online-Schulung | \nZum Anmeldeformular
URL:https://wordpress.boc.de/watchguard-info-portal/termine/watchguard-administrator-schulung-fireware-xtm-v12-2024-11/
CATEGORIES:WatchGuard Schulungen
ATTACH;FMTTYPE=image/jpeg:https://wordpress.boc.de/watchguard-info-portal/wp-content/uploads/2019/06/boc-schulungen_200x200.jpg
ORGANIZER;CN="BOC IT-Security GmbH":MAILTO:info@boc.de
END:VEVENT
BEGIN:VEVENT
DTSTART;TZID=Europe/Berlin:20241119T100000
DTEND;TZID=Europe/Berlin:20241119T110000
DTSTAMP:20260425T122843
CREATED:20241011T105302Z
LAST-MODIFIED:20241011T110334Z
UID:25291-1732010400-1732014000@wordpress.boc.de
SUMMARY:Webinarreihe - Better together - ein einheitlicher\, vereinfachter Ansatz für Ihre Sicherheit
DESCRIPTION:Inhalt:\nDa sich Cyberangriffe über herkömmliche Netzwerkschwachstellen hinaus entwickeln\, kann das alleinige Vertrauen auf Firewalls kritische Lücken aufweisen\, insbesondere in Remote-Umgebungen. Erfahren Sie\, wie Sie von traditioneller Sicherheit zu modernen Lösungen übergehen\, die Netzwerk-\, Endpunkt- und Identitätsschutz mit Bedrohungsdaten kombinieren. Diese einheitliche Strategie senkt nicht nur die Kosten und strafft die Abläufe\, sondern verbessert auch die Benutzerfreundlichkeit und stärkt Ihre Gesamtverteidigung gegen sich entwickelnde Cyber-Bedrohungen. \nIn diesem Webinar erfahren Sie\, wie Sie Ihre Cybersicherheit mit einem integrierten\, mehrschichtigen Ansatz vereinfachen und verbessern können. \nDie Webinarreihe zur Steigerung der Cybersicherheit mit WatchGuard besteht aus 3 Teilen. Es werden verschiedenen Lösungen von WatchGuard vorgestellt und die wichtigsten Themen für die Aufrechterhaltung einer robusten und proaktiven Sicherheit behandelt. Jede Sitzung wird sich auf bestimmte Aspekte des Angebots konzentrieren und einen praktischen Einblick in die Integration und Optimierung dieser Lösungen in Ihrem Unternehmen geben. \nJetzt zum Webinar anmelden!
URL:https://wordpress.boc.de/watchguard-info-portal/termine/webinarreihe-better-together-ein-einheitlicher-vereinfachter-ansatz-fuer-ihre-sicherheit/
LOCATION:Online Webinar bei Citrix GoToWebinar\, Onlineveranstaltung
CATEGORIES:WatchGuard Webinare
ATTACH;FMTTYPE=image/jpeg:https://wordpress.boc.de/watchguard-info-portal/wp-content/uploads/2019/11/wg-webinare_200x200.jpg
END:VEVENT
BEGIN:VEVENT
DTSTART;TZID=Europe/Berlin:20241122T090000
DTEND;TZID=Europe/Berlin:20241122T094500
DTSTAMP:20260425T122843
CREATED:20241121T092702Z
LAST-MODIFIED:20250310T124806Z
UID:25751-1732266000-1732268700@wordpress.boc.de
SUMMARY:BestPractices.live - Optimales Setup für Wi-Fi Access Points
DESCRIPTION:Inhalt:\nIn diesem Webinar erhalten Sie spannende Einblicke in das vielseitige Portfolio der WatchGuard WLAN-Produkte. Dabei geht es um die neuesten Geräte und Features\, die Ihnen den Arbeitsalltag erleichtern\, sowie praktische Vorlagen (Templates)\, die eine einfache Implementierung ermöglichen. Durch die smarte Nutzung dieser Tools und Best Practices können Sie die Effizienz und Sicherheit Ihres Netzwerks steigern. Nutzen Sie diese Gelegenheit\, um Ihr Wi-Fi-Setup mit den innovativen Lösungen von WatchGuard auf das nächste Level zu heben! \nNehmen Sie an diesem Webinar teil und erfahren Sie mehr über: \n\nFunktionen\, die die WLAN-Verwaltung vereinfachen\nPraktische Vorlagen\, um Installationen zu beschleunigen und zu standardisieren\n\nWebinaraufzeichnung jetzt ansehen!
URL:https://wordpress.boc.de/watchguard-info-portal/termine/bestpractices-live-optimales-setup-fuer-wi-fi-access-points/
LOCATION:Online Webinar bei Citrix GoToWebinar\, Onlineveranstaltung
CATEGORIES:WatchGuard Webinare
ATTACH;FMTTYPE=image/jpeg:https://wordpress.boc.de/watchguard-info-portal/wp-content/uploads/2019/11/wg-webinare_200x200.jpg
END:VEVENT
END:VCALENDAR