BEGIN:VCALENDAR
VERSION:2.0
PRODID:-//BOC IT-Security GmbH - ECPv6.7.0//NONSGML v1.0//EN
CALSCALE:GREGORIAN
METHOD:PUBLISH
X-WR-CALNAME:BOC IT-Security GmbH
X-ORIGINAL-URL:https://wordpress.boc.de/watchguard-info-portal
X-WR-CALDESC:Veranstaltungen für BOC IT-Security GmbH
REFRESH-INTERVAL;VALUE=DURATION:PT1H
X-Robots-Tag:noindex
X-PUBLISHED-TTL:PT1H
BEGIN:VTIMEZONE
TZID:Europe/Berlin
BEGIN:DAYLIGHT
TZOFFSETFROM:+0100
TZOFFSETTO:+0200
TZNAME:CEST
DTSTART:20240331T010000
END:DAYLIGHT
BEGIN:STANDARD
TZOFFSETFROM:+0200
TZOFFSETTO:+0100
TZNAME:CET
DTSTART:20241027T010000
END:STANDARD
END:VTIMEZONE
BEGIN:VEVENT
DTSTART;TZID=Europe/Berlin:20240913T090000
DTEND;TZID=Europe/Berlin:20240913T094500
DTSTAMP:20260425T155036
CREATED:20240904T093834Z
LAST-MODIFIED:20241210T155439Z
UID:24577-1726218000-1726220700@wordpress.boc.de
SUMMARY:BestPractices.live - Benutzer- und Gruppenverwaltung in der WatchGuard Cloud
DESCRIPTION:Inhalt:\nBenutzer und deren Gruppenzugehörigkeit sind zur Umsetzung umfassender Sicherheitsrichtlinien und der Implementierung von Zero-Trust Szenarien von großer Bedeutung. In der WatchGuard Cloud Plattform stehen effiziente Möglichkeiten zur Verwaltung von Benutzern und Gruppen zur Verfügung und auch die Synchronisation von externen Identitäts-Datenbanken (z.B. Active Directory ) erfolgt leicht und intuitiv. Auch bei lokal verwalteten Firebox Appliances sind vergleichbare Möglichkeiten vorhanden. \nIn diesem Webinar geht es vor allem um folgende Inhalte: \n\nWatchGuard Cloud Directory\nDirectory and Domain Services\nBenutzerverwaltung für WatchGuard AuthPoint\nSynchronisation von Active Directory und Azure AD mit AuthPoint\nBenutzerverwaltung für Firebox Appliances\nAnbindung und Synchronisation von Active Directory mit Firebox Appliances.\n\nWebinaraufzeichnung jetzt ansehen!
URL:https://wordpress.boc.de/watchguard-info-portal/termine/bestpractices-live-benutzer-und-gruppenverwaltung-in-der-watchguard-cloud/
LOCATION:Online Webinar bei Citrix GoToWebinar\, Onlineveranstaltung
CATEGORIES:WatchGuard Webinare
ATTACH;FMTTYPE=image/jpeg:https://wordpress.boc.de/watchguard-info-portal/wp-content/uploads/2019/11/wg-webinare_200x200.jpg
END:VEVENT
BEGIN:VEVENT
DTSTART;TZID=Europe/Berlin:20240917T090000
DTEND;TZID=Europe/Berlin:20240920T160000
DTSTAMP:20260425T155036
CREATED:20240418T125134Z
LAST-MODIFIED:20240828T125448Z
UID:20258-1726563600-1726848000@wordpress.boc.de
SUMMARY:WatchGuard Administrator-Schulung Fireware 12
DESCRIPTION:Network Security Essentials-Schulung (Fireware Essentials)\n\n\n\n\nZum Anmeldeformular\n\n\nZIELE:\nDieser Kurs vermittelt die notwendigen Kenntnisse\, um eine WatchGuard Firebox in ein LAN/WAN-Netz zu integrieren\, zu konfigurieren und zu überwachen. Der Kurs soll einen möglichst vollständigen Überblick über die vorhandenen Fähigkeiten der WatchGuard Firebox bieten. Der Kurs enthält die Grundlagen\, die Inbetriebnahme\, die Lizensierung\, die Konfiguration der Policies und Security Services\, Trouble-Shooting sowie Logging und Reporting. Es wird gezeigt\, wie mit WatchGuard ein Site-to-Site VPN (Branch Office VPN) zwischen mehreren Standorten sicher konfiguriert und betrieben wird. Außerdem werden die verschiedenen Technologien vorgestellt\, mit denen Mobile User per Dial-In VPN sicher an das Firmennetzwerk angebunden werden können (IPSec\, SSL-VPN und L2TP). Ein Überblick über die Add-Ons wie Gateway-Wireless Controller und FireCluster runden den Workshop ab. Schwerpunkte werden anhand der Bedürfnisse der Workshop-Teilnehmer im Vorfeld besprochen und gerne berücksichtigt.\n\n\nZIELGRUPPE:\nDiese Schulung wendet sich an Netzwerk Administratoren und Techniker\, die eine WatchGuard Firebox / XTM Firewall VPN Appliance mit dem aktuellen Betriebssystem Fireware XTM v12.x in ihrer LAN/WAN-Umgebung installieren und administrieren sollen.\n\n\nVORAUSSETZUNGEN:\nGrundkenntnisse über Netzwerkadministration\, IP-Adressierung\, Handhabung von IP-Subnetzen\, Routing und Internet-Zugangstechnologien (klassische Standleitung\, DSL\, ISDN\, LTE/UMTS (4G/3G)) werden vorausgesetzt. Das Seminar wird in deutscher Sprache gehalten. Für eine erfolgreiche Teilnahme müssen Grundkenntnisse in englischer Sprache vorhanden sein\, um den in Englisch gehaltenen Seminarunterlagen und der Bedieneroberfläche folgen zu können.\n\n\nINHALT:\nDie Inhaltsangabe ist ein grober “Fahrplan”\, wobei einzelne Themen nach Bedarf der Schulungsteilnehmer in gekürzter Form oder entsprechend detaillierter durchgesprochen werden. Nachfolgend der typische Ablauf einer 4-Tages-Schulung \nTag 1: \n\nÜbersicht über die verfügbaren zusätzlichen Security Services (WebBlocker\, spamBlocker\, Gateway Antivirus\, Intrusion Prevention Service\, Application Control\, Reputation Enabled Defense\, BotNet Detection\, Geolocation\, Data Loss Prevention\, APT Blocker\, EDR Core\, ThreatSync (XDR)\, Mobile Security)\nUnterschied Paketfilter-Firewall und Security Gateway\nSecurity Principles\, Application Proxy und Packet Filter\nFirebox Basics (WatchGuard System Manager\, Management Server\, Web-UI\, Tools)\nInbetriebnahme – Installation Wizard – Lizensierung – Feature Key\nNetzwerk-Konfiguration der Firewall-Interfaces (Static IP\, DHCP\, PPPoE)\nDie Verwendung von Aliases\nHinzufügen und Konfiguration von Policies – Teil 1: Packet Filter\n\nUnterschied zwischen Packet Filter Policies und Proxy Policies\nStandard Policy-Types\nCustom Policy-Types\nManual Order Mode vs. Auto Order Mode – Reihenfolge der Policies Teil 1\nDynamic NAT vs. 1-to-1 NAT vs. Static NAT (SNAT)\n\n\n\nTag 2: \n\nHinzufügen und Konfiguration von Policies – Teil 2: Application Proxies\n\nSecurity Services in den Policies: Proxy-Services\nKonfiguration der Proxy-Services (WebBlocker\, spamBlocker\, Gateway Antivirus\, Intrusion Prevention Service\, Application Control\, Reputation Enabled Defense\, BotNet Detection\, Geolocation\, Data Loss Prevention\, APT Blocker\, EDR Core\, ThreatSync (XDR)\, Mobile Security)\nManual Order Mode vs. Auto Order Mode – Reihenfolge der Policies Teil 2\n\n\nGrundlagen Symmetrische / Asymmetrische Verschlüsselung\nGrundlagen Zertifikate / Zertifikatsketten / Signaturen\nHTTPS Deep Inspection / Content-Inspection\nUser Authentication und Authentication Servers.\n\nAnbindung an RADIUS\nActive Directory\nSingle Sign On\n\n\nRole Based Internet Access basierend auf Usern oder Gruppen (Active Directory oder lokale Firebox-DB)\n\nTag 3: \n\nBranch Office VPN mit IPSec (Standortverbindungen\, Site-to-Site-VPN)\nMobile User VPN (gesicherte Anbindung mobiler Benutzer)\n\nSSL VPN / OpenVPN – Unterschiede und Gemeinsamkeiten / Verschiedene Endgeräte\nMehrstufiges Rechteschema bei VPN Login\nAusblick: Mobile VPN mit L2TP & IPSec\nAusblick: Mobile VPN mit IKEv2 / VPN before Logon\n\n\nSetup & Betrieb eines Firebox Clusters\nÜberblick: WatchGuard Management Server \n\nzentralisierte Verwaltung mehrerer WatchGuard Fireboxen\nVerwaltung von VPNs \nPolicy Templates\n\n\n\nTag 4 \n\nGateway Wireless Controller – WLAN mit mehreren SSIDs auf unterschiedlichen VLANs\nHotspot Funktionalität – Gäste-Netzwerk mit WLAN Vouchers\nAccess Portal\nAuthPoint / MFA\nMonitoring (Firebox System Monitor\, Bandwidth Meter\, Authenticated Users\, HostWatch\, WebUI\, Network Discovery)\nLogging – Installation und Konfiguration eines WatchGuard Dimension Servers\nReporting – Arbeiten mit dem WatchGuard Dimension Server\nÜberblick: WatchGuard Wi-Fi Cloud\, Wireless Intrusion Prevention System (WIPS)\nÜberblick: EDR Core\nÜberblick: WatchGuard Cloud\n\nLogging in die Cloud\nCloud-Managed Fireboxes\n\n\n\n\n\n\nECKDATEN:\n\n\nDauer: 4 Tage (jeweils 09:00-16:00 Uhr)\, Termine siehe weiter unten.\nDie Schulungen werden entweder in Präsenz in Oberhausen\, online oder als Hybrid-Schulung (Präsenz-Schulung mit zusätzlichen Online-Teilnehmern) angeboten.\nTeilnahmegebühr Online: 2.300\,00 Euro zzgl. MwSt. pro Person inkl. Schulungsunterlagen (PDF).\nTeilnahmegebühr Präsenz: 2.700\,00 Euro zzgl. MwSt. pro Person inkl. Schulungsunterlagen (PDF).\nAb zwei Personen aus dem gleichen Unternehmen reduziert sich die Teilnahmegebühr um 200\,00 Euro pro Person.\nDie Rechnungsstellung erfolgt vorab. Nach Eingang Ihrer Zahlung erhalten Sie eine schriftliche Bestätigung.\nBei Verhinderung des angemeldeten Teilnehmers kann eine Ersatzperson benannt werden.\nEine Umbuchung auf einen späteren Termin ist gegen eine Gebühr von 100\,00 Euro möglich.\nSollte ein gebuchter Termin ausfallen\, erfolgt eine kostenfreie Umbuchung auf einen späteren Termin. Bei zu geringer Teilnehmerzahl behalten wir uns vor\, den Termin zu verlegen oder abzusagen.\nEine Rückerstattung ist jedoch ausgeschlossen.\nBesonderes Highlight:\nAlle Teilnehmer der Network Security Essentials-Schulung haben die einmalige Gelegenheit eine WatchGuard Firebox T145-W mit 3 Jahren Total Security für nur 444 € zzgl. MwSt. (statt ca. 3600 €) als Test-Box für ihr Home-Lab zu erwerben. Das Angebot ist auf eine Box pro Teilnehmer begrenzt.\n\n\n\n\n\n  \n				\n			\n\n				\n\n\nOnline-Schulung | \nZum Anmeldeformular
URL:https://wordpress.boc.de/watchguard-info-portal/termine/watchguard-administrator-schulung-fireware-xtm-v12-2024-09/
CATEGORIES:WatchGuard Schulungen
ATTACH;FMTTYPE=image/jpeg:https://wordpress.boc.de/watchguard-info-portal/wp-content/uploads/2019/06/boc-schulungen_200x200.jpg
ORGANIZER;CN="BOC IT-Security GmbH":MAILTO:info@boc.de
END:VEVENT
BEGIN:VEVENT
DTSTART;TZID=Europe/Berlin:20240924T150000
DTEND;TZID=Europe/Berlin:20240924T150000
DTSTAMP:20260425T155036
CREATED:20240920T084823Z
LAST-MODIFIED:20250107T122940Z
UID:24916-1727190000-1727190000@wordpress.boc.de
SUMMARY:BestPractices.live - Verstärken Sie Ihre Firebox mit WatchGuard NDR
DESCRIPTION:Inhalt:\nErhöhen Sie die Leistung Ihrer Firebox mit WatchGuard ThreatSync+ NDR (Network Detection and Response). Ihre Firewall ist das Rückgrat Ihrer Cybersecurity-Verteidigung und WatchGuard NDR verwandelt sie in ein fortschrittliches System zur Erkennung von Netzwerk-KI-Bedrohungen. Nehmen Sie an einem exklusiven Webinar teil und erfahren Sie\, wie WatchGuard NDR die Leistung Ihrer Firebox steigern kann und damit die Cybersicherheit einfacher\, intelligenter und effektiver macht. \nIn diesem Webinar geht es um die folgenden Themen: \n\nDie hochmodernen KI-Funktionen von WatchGuard NDR und wie sie ausgeklügelte Ransomware- und Lieferkettenangriffe erkennen können\, die dafür bekannt sind\, dass sie herkömmliche Abwehrmaßnahmen umgehen.\nWie Sie WatchGuard NDR über die WatchGuard Cloud nahtlos in Ihre bestehende Infrastruktur integrieren können.\nDass WatchGuard NDR über die Erkennung von Bedrohungen hinaus auch Geräte in Ihrem Netzwerk identifiziert und vor gefährdeten Geräten warnt.\nWatchGuard NDR ist in der Lage\, seine Überwachung auf Ihr internes Netzwerk auszudehnen und so Ihr gesamtes Netzwerk vor versteckten Bedrohungen zu schützen.\n\nWebinaraufzeichnung jetzt ansehen!
URL:https://wordpress.boc.de/watchguard-info-portal/termine/bestpractices-live-verstaerken-sie-ihre-firebox-mit-watchguard-ndr/
LOCATION:Online Webinar bei Citrix GoToWebinar\, Onlineveranstaltung
CATEGORIES:WatchGuard Webinare
ATTACH;FMTTYPE=image/jpeg:https://wordpress.boc.de/watchguard-info-portal/wp-content/uploads/2019/11/wg-webinare_200x200.jpg
END:VEVENT
BEGIN:VEVENT
DTSTART;TZID=Europe/Berlin:20240927T090000
DTEND;TZID=Europe/Berlin:20240927T094500
DTSTAMP:20260425T155036
CREATED:20240924T092949Z
LAST-MODIFIED:20250114T103503Z
UID:24935-1727427600-1727430300@wordpress.boc.de
SUMMARY:BestPractices.live - Zero-Trust Implementierungen für Remote- und Netzwerk-Zugriffe
DESCRIPTION:Inhalt:\nGestohlene Anmeldeinformationen öffnen immer wieder für Cyber-Kriminelle die Tür in Unternehmensnetzwerke. Daher ist es wichtig Benutzer\, als auch Endgeräte eindeutig zu authentisieren um Zugriffe auf wichtige Ressourcen in Unternehmen zu schützen. Hierzu zählen Remotezugriffe und VPN-Verbindungen\, aber auch Web-Applikationen sowie Cloud-Dienste. \nIn diesem Webinar stellen Ihnen WatchGuard-Experten die Möglichkeiten von WatchGuard AuthPoint & WatchGuard Endpoint vor\, mit besonderem Fokus auf die Zero-Trust Implementierung im Bereich des Remote- und Netzwerk-Zugriffs. Mithilfe einer Zero-Trust-Strategie können Unternehmen die Komplexität reduzieren und ein zentralisiertes Sicherheitsframework aufbauen\, das die Effizienz über alle Ressourcen und Benutzer hinweg verbessert\, die Kosten senkt und besser auf die Einhaltung der Compliance abgestimmt ist. \nWebinaraufzeichnung jetzt ansehen!
URL:https://wordpress.boc.de/watchguard-info-portal/termine/bestpractices-live-zero-trust-implementierungen-fuer-remote-und-netzwerk-zugriffe/
LOCATION:Online Webinar bei Citrix GoToWebinar\, Onlineveranstaltung
CATEGORIES:WatchGuard Webinare
ATTACH;FMTTYPE=image/jpeg:https://wordpress.boc.de/watchguard-info-portal/wp-content/uploads/2019/11/wg-webinare_200x200.jpg
END:VEVENT
END:VCALENDAR