BEGIN:VCALENDAR
VERSION:2.0
PRODID:-//BOC IT-Security GmbH - ECPv6.7.0//NONSGML v1.0//EN
CALSCALE:GREGORIAN
METHOD:PUBLISH
X-ORIGINAL-URL:https://wordpress.boc.de/watchguard-info-portal
X-WR-CALDESC:Veranstaltungen für BOC IT-Security GmbH
REFRESH-INTERVAL;VALUE=DURATION:PT1H
X-Robots-Tag:noindex
X-PUBLISHED-TTL:PT1H
BEGIN:VTIMEZONE
TZID:Europe/Berlin
BEGIN:DAYLIGHT
TZOFFSETFROM:+0100
TZOFFSETTO:+0200
TZNAME:CEST
DTSTART:20240331T010000
END:DAYLIGHT
BEGIN:STANDARD
TZOFFSETFROM:+0200
TZOFFSETTO:+0100
TZNAME:CET
DTSTART:20241027T010000
END:STANDARD
END:VTIMEZONE
BEGIN:VEVENT
DTSTART;TZID=Europe/Berlin:20240802T090000
DTEND;TZID=Europe/Berlin:20240802T094500
DTSTAMP:20260425T173754
CREATED:20240724T135512Z
LAST-MODIFIED:20240724T145019Z
UID:21275-1722589200-1722591900@wordpress.boc.de
SUMMARY:BestPractices.live - Das Problem mit Passwörtern
DESCRIPTION:Inhalt:\nHacker brechen oft gar nicht ein. Sie loggen sich einfach ein. In den letzten zehn Jahren wurden bei 31 % der Sicherheitsverletzungen gestohlene Zugangsdaten verwendet (Verizon\, 2024). In diesem Webinar geben WatchGuard Sales Engineers einen Überblick über einige der jüngsten Sicherheitsverletzungen und deren Entwicklung in den letzten Jahren. \nZu den im Webinar behandelten Themen gehören: \n\nGängige Passwort-Angriffstechniken und die neuesten Forschungsergebnisse darüber\, wie lange Brute-Force-Versuche gegen verschiedene Algorithmen dauern\nJüngste Authentifizierungsangriffe auf VPN-Technologie und die neuesten Maßnahmen von WatchGuard zum Schutz vor solchen Angriffen\nBest Practices\, die Sie zum Schutz der Authentifizierung vor Passwortangriffen einsetzen können\n\nJetzt zum Webinar anmelden!
URL:https://wordpress.boc.de/watchguard-info-portal/termine/bestpractices-live-das-problem-mit-passwoertern/
LOCATION:Online Webinar bei Citrix GoToWebinar\, Onlineveranstaltung
CATEGORIES:WatchGuard Webinare
ATTACH;FMTTYPE=image/jpeg:https://wordpress.boc.de/watchguard-info-portal/wp-content/uploads/2019/11/wg-webinare_200x200.jpg
END:VEVENT
BEGIN:VEVENT
DTSTART;TZID=Europe/Berlin:20240816T090000
DTEND;TZID=Europe/Berlin:20240816T094500
DTSTAMP:20260425T173754
CREATED:20240729T110829Z
LAST-MODIFIED:20241202T110945Z
UID:21574-1723798800-1723801500@wordpress.boc.de
SUMMARY:BestPractices.live - Die Firebox von der lokalen Verwaltung in die Cloud verlagern
DESCRIPTION:Inhalt:\nWatchGuard Cloud bietet eine schnelle\, intuitive Benutzeroberfläche\, die auch für neue IT-Mitarbeiter einfach zu bedienen und schnell zu erlernen ist. Durch die Cloud-Verwaltung entfällt die Notwendigkeit\, einen Verwaltungsserver vor Ort zu unterhalten und zu sichern. Über die Konsole können Sie wiederverwendbare Vorlagen für eine optimierte Konfiguration erstellen und so für konsistente Sicherheit in Ihrem gesamten Netzwerk sorgen. \nIn diesem Webinar geht es um die besten Strategien für die Migration vom WatchGuard System Manager (WSM) zum Cloud-Management von Fireboxen. Die wichtigsten behandelten Themen sind: \n\nEine Zusammenfassung von Funktionen wie SNMP und dynamisches Routing\, die kürzlich zum Cloud-Management hinzugefügt wurden\nDetails zu den verbleibenden Unterschieden zwischen den Funktionen der Cloud-Verwaltung und der lokalen Verwaltung\nTools und Dienste\, die für die Verlagerung von Konfigurationen in die Cloud zur Verfügung stehen\n\nWebinaraufzeichnung jetzt ansehen!
URL:https://wordpress.boc.de/watchguard-info-portal/termine/bestpractices-live-die-firebox-von-der-lokalen-verwaltung-in-die-cloud-verlagern/
LOCATION:Online Webinar bei Citrix GoToWebinar\, Onlineveranstaltung
CATEGORIES:WatchGuard Webinare
ATTACH;FMTTYPE=image/jpeg:https://wordpress.boc.de/watchguard-info-portal/wp-content/uploads/2019/11/wg-webinare_200x200.jpg
END:VEVENT
BEGIN:VEVENT
DTSTART;TZID=Europe/Berlin:20240830T090000
DTEND;TZID=Europe/Berlin:20240830T094500
DTSTAMP:20260425T173754
CREATED:20240729T111659Z
LAST-MODIFIED:20240904T140525Z
UID:21577-1725008400-1725011100@wordpress.boc.de
SUMMARY:BestPractices.live - Neue Funktionen in WatchGuard Cloud
DESCRIPTION:Inhalt:\nWatchGuard Cloud eliminiert die Kosten und die Komplexität der Verwaltung von Sicherheitsprodukten für MSPs. WatchGuard arbeitet kontinuierlich an Updates und Verbesserungen der Plattform\, um die Verwaltung mehrerer Kunden und Standorte zu vereinfachen und zu skalieren. \nNehmen Sie an diesem Webinar teil\, und erfahren Sie mehr über neue Funktionen und Möglichkeiten\, die in den letzten drei Monaten hinzugefügt wurden. Zu den wichtigsten Highlights gehören: \n\nDynamisches Routing für Cloud-verwaltete Fireboxen\, die komplexere Netzwerkanwendungsfälle ermöglichen\nEine Reihe von ThreatSync-Verbesserungen\, die tiefere Sicherheitseinblicke für Incident Responder ermöglichen\nDie Möglichkeit\, Geräte zwischen Abonnentenkonten zu verschieben\, um mehr Flexibilität für die Bestandsverwaltung in Ihrem Unternehmen zu schaffen\n\nWebinaraufzeichnung jetzt ansehen!
URL:https://wordpress.boc.de/watchguard-info-portal/termine/bestpractices-live-neue-funktionen-in-watchguard-cloud/
LOCATION:Online Webinar bei Citrix GoToWebinar\, Onlineveranstaltung
CATEGORIES:WatchGuard Webinare
ATTACH;FMTTYPE=image/jpeg:https://wordpress.boc.de/watchguard-info-portal/wp-content/uploads/2019/11/wg-webinare_200x200.jpg
END:VEVENT
END:VCALENDAR