BEGIN:VCALENDAR
VERSION:2.0
PRODID:-//BOC IT-Security GmbH - ECPv6.7.0//NONSGML v1.0//EN
CALSCALE:GREGORIAN
METHOD:PUBLISH
X-ORIGINAL-URL:https://wordpress.boc.de/watchguard-info-portal
X-WR-CALDESC:Veranstaltungen für BOC IT-Security GmbH
REFRESH-INTERVAL;VALUE=DURATION:PT1H
X-Robots-Tag:noindex
X-PUBLISHED-TTL:PT1H
BEGIN:VTIMEZONE
TZID:Europe/Berlin
BEGIN:DAYLIGHT
TZOFFSETFROM:+0100
TZOFFSETTO:+0200
TZNAME:CEST
DTSTART:20240331T010000
END:DAYLIGHT
BEGIN:STANDARD
TZOFFSETFROM:+0200
TZOFFSETTO:+0100
TZNAME:CET
DTSTART:20241027T010000
END:STANDARD
END:VTIMEZONE
BEGIN:VEVENT
DTSTART;TZID=Europe/Berlin:20240607T090000
DTEND;TZID=Europe/Berlin:20240607T094500
DTSTAMP:20260425T204652
CREATED:20240502T150556Z
LAST-MODIFIED:20240913T111754Z
UID:20447-1717750800-1717753500@wordpress.boc.de
SUMMARY:BestPractices.live - FireboxV und Firebox Cloud - Schutz für virtuelle und Cloud-Umgebungen
DESCRIPTION:Inhalt:\nUnternehmen migrieren immer mehr Arbeitsprozesse zu Cloud-Infrastrukturdiensten. Unternehmen setzen auf Virtualisierung\, um ihre Abläufe effizienter zu gestalten\, Kosten zu senken und die Gesamtleistung ihrer IT-Infrastruktur zu verbessern. Die Virtualisierung birgt jedoch ihre eigenen Herausforderungen\, und das Hosting von Workloads in virtuellen Umgebungen kann komplex und anfällig für verschiedene Sicherheitsrisiken sein. \nIn diesem Webinar erklären WatchGuard Security-Experten die technischen Details hinter der Implementierung der virtuellen Firewalls und UTM-Services für Cloud- und virtuelle Umgebungen. Dabei stehen die folgenden Themen im Fokus: \n\nGeeignete Instanztypen für virtuelle Maschinen für AWS und Azure\nHauptunterschiede zwischen virtuellen\, Cloud- und physischen Firewalls\nDetails über die neue FireboxV Micro-Option\n\nWebinaraufzeichnung jetzt ansehen!
URL:https://wordpress.boc.de/watchguard-info-portal/termine/bestpractices-live-bestpractices-live-fireboxv-und-firebox-cloud-schutz-fuer-virtuelle-und-cloud-umgebungen/
LOCATION:Online Webinar bei Citrix GoToWebinar\, Onlineveranstaltung
CATEGORIES:WatchGuard Webinare
ATTACH;FMTTYPE=image/jpeg:https://wordpress.boc.de/watchguard-info-portal/wp-content/uploads/2019/11/wg-webinare_200x200.jpg
END:VEVENT
BEGIN:VEVENT
DTSTART;TZID=Europe/Berlin:20240618T090000
DTEND;TZID=Europe/Berlin:20240621T160000
DTSTAMP:20260425T204652
CREATED:20231013T115200Z
LAST-MODIFIED:20240418T125014Z
UID:17872-1718701200-1718985600@wordpress.boc.de
SUMMARY:WatchGuard Administrator-Schulung Fireware 12
DESCRIPTION:Network Security Essentials-Schulung (Fireware Essentials)\n\n\n\n\nZum Anmeldeformular\n\n\nZIELE:\nDieser Kurs vermittelt die notwendigen Kenntnisse\, um eine WatchGuard Firebox in ein LAN/WAN-Netz zu integrieren\, zu konfigurieren und zu überwachen. Der Kurs soll einen möglichst vollständigen Überblick über die vorhandenen Fähigkeiten der WatchGuard Firebox bieten. Der Kurs enthält die Grundlagen\, die Inbetriebnahme\, die Lizensierung\, die Konfiguration der Policies und Security Services\, Trouble-Shooting sowie Logging und Reporting. Es wird gezeigt\, wie mit WatchGuard ein Site-to-Site VPN (Branch Office VPN) zwischen mehreren Standorten sicher konfiguriert und betrieben wird. Außerdem werden die verschiedenen Technologien vorgestellt\, mit denen Mobile User per Dial-In VPN sicher an das Firmennetzwerk angebunden werden können (IPSec\, SSL-VPN und L2TP). Ein Überblick über die Add-Ons wie Gateway-Wireless Controller und FireCluster runden den Workshop ab. Schwerpunkte werden anhand der Bedürfnisse der Workshop-Teilnehmer im Vorfeld besprochen und gerne berücksichtigt.\n\n\nZIELGRUPPE:\nDiese Schulung wendet sich an Netzwerk Administratoren und Techniker\, die eine WatchGuard Firebox / XTM Firewall VPN Appliance mit dem aktuellen Betriebssystem Fireware XTM v12.x in ihrer LAN/WAN-Umgebung installieren und administrieren sollen.\n\n\nVORAUSSETZUNGEN:\nGrundkenntnisse über Netzwerkadministration\, IP-Adressierung\, Handhabung von IP-Subnetzen\, Routing und Internet-Zugangstechnologien (klassische Standleitung\, DSL\, ISDN\, LTE/UMTS (4G/3G)) werden vorausgesetzt. Das Seminar wird in deutscher Sprache gehalten. Für eine erfolgreiche Teilnahme müssen Grundkenntnisse in englischer Sprache vorhanden sein\, um den in Englisch gehaltenen Seminarunterlagen und der Bedieneroberfläche folgen zu können.\n\n\nINHALT:\nDie Inhaltsangabe ist ein grober “Fahrplan”\, wobei einzelne Themen nach Bedarf der Schulungsteilnehmer in gekürzter Form oder entsprechend detaillierter durchgesprochen werden. Nachfolgend der typische Ablauf einer 4-Tages-Schulung \nTag 1: \n\nÜbersicht über die verfügbaren zusätzlichen Security Services (WebBlocker\, spamBlocker\, Gateway Antivirus\, Intrusion Prevention Service\, Application Control\, Reputation Enabled Defense\, BotNet Detection\, Geolocation\, Data Loss Prevention\, APT Blocker\, EDR Core\, ThreatSync (XDR)\, Mobile Security)\nUnterschied Paketfilter-Firewall und Security Gateway\nSecurity Principles\, Application Proxy und Packet Filter\nFirebox Basics (WatchGuard System Manager\, Management Server\, Web-UI\, Tools)\nInbetriebnahme – Installation Wizard – Lizensierung – Feature Key\nNetzwerk-Konfiguration der Firewall-Interfaces (Static IP\, DHCP\, PPPoE)\nDie Verwendung von Aliases\nHinzufügen und Konfiguration von Policies – Teil 1: Packet Filter\n\nUnterschied zwischen Packet Filter Policies und Proxy Policies\nStandard Policy-Types\nCustom Policy-Types\nManual Order Mode vs. Auto Order Mode – Reihenfolge der Policies Teil 1\nDynamic NAT vs. 1-to-1 NAT vs. Static NAT (SNAT)\n\n\n\nTag 2: \n\nHinzufügen und Konfiguration von Policies – Teil 2: Application Proxies\n\nSecurity Services in den Policies: Proxy-Services\nKonfiguration der Proxy-Services (WebBlocker\, spamBlocker\, Gateway Antivirus\, Intrusion Prevention Service\, Application Control\, Reputation Enabled Defense\, BotNet Detection\, Geolocation\, Data Loss Prevention\, APT Blocker\, EDR Core\, ThreatSync (XDR)\, Mobile Security)\nManual Order Mode vs. Auto Order Mode – Reihenfolge der Policies Teil 2\n\n\nGrundlagen Symmetrische / Asymmetrische Verschlüsselung\nGrundlagen Zertifikate / Zertifikatsketten / Signaturen\nHTTPS Deep Inspection / Content-Inspection\nUser Authentication und Authentication Servers.\n\nAnbindung an RADIUS\nActive Directory\nSingle Sign On\n\n\nRole Based Internet Access basierend auf Usern oder Gruppen (Active Directory oder lokale Firebox-DB)\n\nTag 3: \n\nBranch Office VPN mit IPSec (Standortverbindungen\, Site-to-Site-VPN)\nMobile User VPN (gesicherte Anbindung mobiler Benutzer)\n\nSSL VPN / OpenVPN – Unterschiede und Gemeinsamkeiten / Verschiedene Endgeräte\nMehrstufiges Rechteschema bei VPN Login\nAusblick: Mobile VPN mit L2TP & IPSec\nAusblick: Mobile VPN mit IKEv2 / VPN before Logon\n\n\nSetup & Betrieb eines Firebox Clusters\nÜberblick: WatchGuard Management Server \n\nzentralisierte Verwaltung mehrerer WatchGuard Fireboxen\nVerwaltung von VPNs \nPolicy Templates\n\n\n\nTag 4 \n\nGateway Wireless Controller – WLAN mit mehreren SSIDs auf unterschiedlichen VLANs\nHotspot Funktionalität – Gäste-Netzwerk mit WLAN Vouchers\nAccess Portal\nAuthPoint / MFA\nMonitoring (Firebox System Monitor\, Bandwidth Meter\, Authenticated Users\, HostWatch\, WebUI\, Network Discovery)\nLogging – Installation und Konfiguration eines WatchGuard Dimension Servers\nReporting – Arbeiten mit dem WatchGuard Dimension Server\nÜberblick: WatchGuard Wi-Fi Cloud\, Wireless Intrusion Prevention System (WIPS)\nÜberblick: EDR Core\nÜberblick: WatchGuard Cloud\n\nLogging in die Cloud\nCloud-Managed Fireboxes\n\n\n\n\n\n\nECKDATEN:\n\n\nDauer: 4 Tage (jeweils 09:00-16:00 Uhr)\, Termine siehe weiter unten.\nDie Schulungen werden entweder in Präsenz in Oberhausen\, online oder als Hybrid-Schulung (Präsenz-Schulung mit zusätzlichen Online-Teilnehmern) angeboten.\nTeilnahmegebühr Online: 2.300\,00 Euro zzgl. MwSt. pro Person inkl. Schulungsunterlagen (PDF).\nTeilnahmegebühr Präsenz: 2.700\,00 Euro zzgl. MwSt. pro Person inkl. Schulungsunterlagen (PDF).\nAb zwei Personen aus dem gleichen Unternehmen reduziert sich die Teilnahmegebühr um 200\,00 Euro pro Person.\nDie Rechnungsstellung erfolgt vorab. Nach Eingang Ihrer Zahlung erhalten Sie eine schriftliche Bestätigung.\nBei Verhinderung des angemeldeten Teilnehmers kann eine Ersatzperson benannt werden.\nEine Umbuchung auf einen späteren Termin ist gegen eine Gebühr von 100\,00 Euro möglich.\nSollte ein gebuchter Termin ausfallen\, erfolgt eine kostenfreie Umbuchung auf einen späteren Termin. Bei zu geringer Teilnehmerzahl behalten wir uns vor\, den Termin zu verlegen oder abzusagen.\nEine Rückerstattung ist jedoch ausgeschlossen.\nBesonderes Highlight:\nAlle Teilnehmer der Network Security Essentials-Schulung haben die einmalige Gelegenheit eine WatchGuard Firebox T145-W mit 3 Jahren Total Security für nur 444 € zzgl. MwSt. (statt ca. 3600 €) als Test-Box für ihr Home-Lab zu erwerben. Das Angebot ist auf eine Box pro Teilnehmer begrenzt.\n\n\n\n\n\n  \n				\n			\n\n				\n\n\nOnline-Schulung |  \nZum Anmeldeformular
URL:https://wordpress.boc.de/watchguard-info-portal/termine/watchguard-administrator-schulung-fireware-xtm-v12-2024-06/
CATEGORIES:WatchGuard Schulungen
ATTACH;FMTTYPE=image/jpeg:https://wordpress.boc.de/watchguard-info-portal/wp-content/uploads/2019/06/boc-schulungen_200x200.jpg
ORGANIZER;CN="BOC IT-Security GmbH":MAILTO:info@boc.de
END:VEVENT
BEGIN:VEVENT
DTSTART;TZID=Europe/Berlin:20240627T143000
DTEND;TZID=Europe/Berlin:20240627T200000
DTSTAMP:20260425T204652
CREATED:20240422T103953Z
LAST-MODIFIED:20240521T110800Z
UID:20295-1719498600-1719518400@wordpress.boc.de
SUMMARY:WatchGuard eXtended Roadshow 2024 in Oberhausen
DESCRIPTION:Besuchen Sie uns auf der WatchGuard eXtended Roadshow in Oberhausen und erfahren Sie alles über die Möglichkeiten und das Zusammenspiel moderner Cybersecurity-Lösungen. \nDie Security-Spezialisten von WatchGuard gehen gemeinsam mit uns auf Tour\, um über aktuelle Anforderungen im IT-Security-Umfeld und die neuesten Sicherheitslösungen zu informieren. Es erwarten Sie spannende Einblicke in den Alltag der Gefahrenabwehr und Gelegenheit für technische Fragen. \nDabei geht es vor allem um das aktuelle Thema NIS2-Richtlinie und die damit einhergehenden Herausforderungen\, Risiken und Lösungen. Die Umsetzung dieser Richtlinie ist komplex und fordert ein tiefes Verständnis der rechtlichen und technischen Aspekte\, um die Integrität und Sicherheit der IT-Infrastrukturen zu gewährleisten und gesetzliche Vorgaben zu erfüllen. \nEin kurzweiliger Nachmittag inklusive Verpflegung ist somit in jedem Fall garantiert. Die Plätze sind begrenzt\, also melden Sie sich am besten noch heute an. \n\n13:30 – 14:30 Uhr: BBQ\, Welcome Drinks\, Open Talks\, Infostände\n14:30 – 14:45 Uhr: BOC – Begrüßung & Vorstellung BOC\n14:45 – 15:30 Uhr: Luther – NIS2\, Haftungsrisiken und Lösungen\n15:30 – 15:45 Uhr: Leich & Deppe – Möglichkeiten für den Supergau\n15:45 – 16:30 Uhr: Pause – Kaffee & IT-Talk\, Infostände\, technische Fragen\, Lösungen\n16:30 – 17:30 Uhr: WatchGuard – Wie unterstützt WatchGuard die NIS2-Richtlinien?\n17:30 – 18:00 Uhr: BOC – Best Practice und Q&A-Session\nAb 18 Uhr: Get-Together – BBQ & Drinks\n\nWir freuen uns auf Sie. \nJetzt kostenfrei anmelden!
URL:https://wordpress.boc.de/watchguard-info-portal/termine/watchguard-extended-roadshow-2024-in-oberhausen/
LOCATION:BOC IT-Security GmbH\, Essener Str. 2-24\, Oberhausen\, 46047\, Deutschland
CATEGORIES:Messen & sonstige Veranstaltungen
ATTACH;FMTTYPE=image/png:https://wordpress.boc.de/watchguard-info-portal/wp-content/uploads/2024/04/roadshow-oberhausen.png
END:VEVENT
END:VCALENDAR