BEGIN:VCALENDAR
VERSION:2.0
PRODID:-//BOC IT-Security GmbH - ECPv6.7.0//NONSGML v1.0//EN
CALSCALE:GREGORIAN
METHOD:PUBLISH
X-ORIGINAL-URL:https://wordpress.boc.de/watchguard-info-portal
X-WR-CALDESC:Veranstaltungen für BOC IT-Security GmbH
REFRESH-INTERVAL;VALUE=DURATION:PT1H
X-Robots-Tag:noindex
X-PUBLISHED-TTL:PT1H
BEGIN:VTIMEZONE
TZID:Europe/Berlin
BEGIN:DAYLIGHT
TZOFFSETFROM:+0100
TZOFFSETTO:+0200
TZNAME:CEST
DTSTART:20260329T010000
END:DAYLIGHT
BEGIN:STANDARD
TZOFFSETFROM:+0200
TZOFFSETTO:+0100
TZNAME:CET
DTSTART:20261025T010000
END:STANDARD
END:VTIMEZONE
BEGIN:VEVENT
DTSTART;TZID=Europe/Berlin:20260624T140000
DTEND;TZID=Europe/Berlin:20260624T210000
DTSTAMP:20260424T135335
CREATED:20260211T124153Z
LAST-MODIFIED:20260304T160133Z
UID:30271-1782309600-1782334800@wordpress.boc.de
SUMMARY:BOC Sommerfest 2026
DESCRIPTION:Unser jährliches Sommerfest lädt zum Austausch in entspannter Atmosphäre ein! \nEs erwartet Sie ein abwechslungsreiches Programm mit kulinarischen Köstlichkeiten\, erfrischenden Getränken & weitere Überraschungen. \nNeben dem Networking mit anderen Geschäftspartnern bieten wir Ihnen auch die Möglichkeit unser Team sowie unseren Standort besser kennenzulernen und sich über aktuelle Produkte und Entwicklungen von WatchGuard und der IT-Branche auszutauschen. \nZur Anmeldung
URL:https://wordpress.boc.de/watchguard-info-portal/termine/boc-sommerfest-2026/
LOCATION:BOC IT-Security GmbH\, Essener Str. 2-24\, Oberhausen\, 46047\, Deutschland
CATEGORIES:Messen & sonstige Veranstaltungen
END:VEVENT
END:VCALENDAR