BEGIN:VCALENDAR
VERSION:2.0
PRODID:-//BOC IT-Security GmbH - ECPv6.7.0//NONSGML v1.0//EN
CALSCALE:GREGORIAN
METHOD:PUBLISH
X-WR-CALNAME:BOC IT-Security GmbH
X-ORIGINAL-URL:https://wordpress.boc.de/watchguard-info-portal
X-WR-CALDESC:Veranstaltungen für BOC IT-Security GmbH
REFRESH-INTERVAL;VALUE=DURATION:PT1H
X-Robots-Tag:noindex
X-PUBLISHED-TTL:PT1H
BEGIN:VTIMEZONE
TZID:Europe/Berlin
BEGIN:DAYLIGHT
TZOFFSETFROM:+0100
TZOFFSETTO:+0200
TZNAME:CEST
DTSTART:20260329T010000
END:DAYLIGHT
BEGIN:STANDARD
TZOFFSETFROM:+0200
TZOFFSETTO:+0100
TZNAME:CET
DTSTART:20261025T010000
END:STANDARD
END:VTIMEZONE
BEGIN:VEVENT
DTSTART;TZID=Europe/Berlin:20260508T090000
DTEND;TZID=Europe/Berlin:20260508T094500
DTSTAMP:20260424T135039
CREATED:20260407T092754Z
LAST-MODIFIED:20260407T093113Z
UID:30718-1778230800-1778233500@wordpress.boc.de
SUMMARY:BestPractices.live - Eine Plattform. Volle Kontrolle. ThreatSync in Aktion
DESCRIPTION:Inhalt:\nIn einer zunehmend komplexen IT-Landschaft stehen Unternehmen vor der Herausforderung\, unterschiedliche Sicherheitstools effizient miteinander zu verknüpfen. Dieses Webinar zeigt\, wie sich isolierte Lösungen zusammenführen lassen\, um Endpunkt-\, Netzwerk- und Identitätsschutz zentral zu steuern. \nAnhand praxisnaher Live-Demonstrationen wird veranschaulicht\, wie verschiedene Sicherheitsvorfälle – von Malware bis hin zu Netzwerkangriffen – generiert und verwaltet werden können. Ziel ist es\, einen klaren Überblick über die Vorteile einer integrierten Sicherheitsarchitektur zu vermitteln und deren Mehrwert greifbar zu machen. \nJetzt zum Webinar anmelden!
URL:https://wordpress.boc.de/watchguard-info-portal/termine/bestpractices-live-eine-plattform-volle-kontrolle-threatsync-in-aktion/
LOCATION:Online Webinar bei Citrix GoToWebinar\, Onlineveranstaltung
CATEGORIES:WatchGuard Webinare
ATTACH;FMTTYPE=image/jpeg:https://wordpress.boc.de/watchguard-info-portal/wp-content/uploads/2019/11/wg-webinare_200x200.jpg
END:VEVENT
END:VCALENDAR