BEGIN:VCALENDAR
VERSION:2.0
PRODID:-//BOC IT-Security GmbH - ECPv6.7.0//NONSGML v1.0//EN
CALSCALE:GREGORIAN
METHOD:PUBLISH
X-WR-CALNAME:BOC IT-Security GmbH
X-ORIGINAL-URL:https://wordpress.boc.de/watchguard-info-portal
X-WR-CALDESC:Veranstaltungen für BOC IT-Security GmbH
REFRESH-INTERVAL;VALUE=DURATION:PT1H
X-Robots-Tag:noindex
X-PUBLISHED-TTL:PT1H
BEGIN:VTIMEZONE
TZID:Europe/Berlin
BEGIN:DAYLIGHT
TZOFFSETFROM:+0100
TZOFFSETTO:+0200
TZNAME:CEST
DTSTART:20260329T010000
END:DAYLIGHT
BEGIN:STANDARD
TZOFFSETFROM:+0200
TZOFFSETTO:+0100
TZNAME:CET
DTSTART:20261025T010000
END:STANDARD
END:VTIMEZONE
BEGIN:VEVENT
DTSTART;TZID=Europe/Berlin:20260326T140000
DTEND;TZID=Europe/Berlin:20260326T150000
DTSTAMP:20260424T121355
CREATED:20260310T144056Z
LAST-MODIFIED:20260310T145041Z
UID:30503-1774533600-1774537200@wordpress.boc.de
SUMMARY:BestPractices.live - WatchGuard Open MDR: Mehr Schutz\, null Umstieg
DESCRIPTION:Inhalt:\nViele Unternehmen investieren kontinuierlich in neue Security-Tools – dennoch fehlt häufig der klare Überblick über die tatsächliche Bedrohungslage. Unterschiedliche Lösungen liefern zwar einzelne Warnungen\, doch ein ganzheitliches Sicherheitsbild entsteht selten. Genau hier setzt WatchGuard Open MDR an. \nIn diesem Webinar zeigen WatchGuard-Experten\, wie Sie Bedrohungen über verschiedene Herstellerlösungen hinweg erkennen\, priorisieren und effektiv darauf reagieren können – ohne Ihre bestehende IT-Security-Infrastruktur zu ersetzen. Open MDR integriert vorhandene Sicherheitslösungen in eine zentrale Plattform für Bedrohungserkennung und -analyse und schafft so mehr Transparenz über Ihre gesamte Umgebung. Open MDR unterstützt Ihr IT-Team im Alltag durch weniger Fehlalarme\, schnellere Identifikation von Angriffen und eine professionelle 24/7-Überwachung – auch dann\, wenn interne Ressourcen begrenzt sind. \nIn diesem Webinar zeigen WatchGuard-Experten: \n\nWie Open MDR Ihre bestehenden Security-Tools ergänzt – ohne aufwendige Umstellungen\nWarum ein herstellerunabhängiger MDR-Ansatz für mehr Transparenz und fundiertere Sicherheitsentscheidungen sorgt\nWie Security-Teams schneller auf Vorfälle reagieren und nachhaltig entlastet werden\nPraxisnahe Einblicke in typische Einsatzszenarien\n\nJetzt zum Webinar anmelden!
URL:https://wordpress.boc.de/watchguard-info-portal/termine/bestpractices-live-watchguard-open-mdr-mehr-schutz-null-umstieg/
LOCATION:Online Webinar bei Citrix GoToWebinar\, Onlineveranstaltung
CATEGORIES:WatchGuard Webinare
ATTACH;FMTTYPE=image/jpeg:https://wordpress.boc.de/watchguard-info-portal/wp-content/uploads/2019/11/wg-webinare_200x200.jpg
END:VEVENT
END:VCALENDAR