BEGIN:VCALENDAR
VERSION:2.0
PRODID:-//BOC IT-Security GmbH - ECPv6.7.0//NONSGML v1.0//EN
CALSCALE:GREGORIAN
METHOD:PUBLISH
X-ORIGINAL-URL:https://wordpress.boc.de/watchguard-info-portal
X-WR-CALDESC:Veranstaltungen für BOC IT-Security GmbH
REFRESH-INTERVAL;VALUE=DURATION:PT1H
X-Robots-Tag:noindex
X-PUBLISHED-TTL:PT1H
BEGIN:VTIMEZONE
TZID:Europe/Berlin
BEGIN:DAYLIGHT
TZOFFSETFROM:+0100
TZOFFSETTO:+0200
TZNAME:CEST
DTSTART:20260329T010000
END:DAYLIGHT
BEGIN:STANDARD
TZOFFSETFROM:+0200
TZOFFSETTO:+0100
TZNAME:CET
DTSTART:20261025T010000
END:STANDARD
END:VTIMEZONE
BEGIN:VEVENT
DTSTART;TZID=Europe/Berlin:20260220T090000
DTEND;TZID=Europe/Berlin:20260220T094500
DTSTAMP:20260424T135227
CREATED:20260105T120617Z
LAST-MODIFIED:20260105T121027Z
UID:29974-1771578000-1771580700@wordpress.boc.de
SUMMARY:BestPractices.live - Single WatchGuard Agent
DESCRIPTION:Inhalt:\nVerwalten Sie Endgeräte und Sicherheitsfunktionen künftig zentral über einen einzigen Agenten. Der Single WatchGuard Agent vereint Endpoint-Schutz\, FireCloud\, NDR und weitere Funktionen in einer modularen Lösung\, die sich leicht über die WatchGuard Cloud steuern lässt. \nIn diesem Webinar zeigen WatchGuard-Experten: \n\nWie der Single WatchGuard Agent funktioniert und welche Vorteile er bietet\nWie Sie zentrale Verwaltung und Monitoring über die WatchGuard Cloud umsetzen\nPraktische Tipps zur Integration in bestehende IT-Umgebungen\n\nJetzt zum Webinar anmelden!
URL:https://wordpress.boc.de/watchguard-info-portal/termine/bestpractices-live-single-watchguard-agent/
LOCATION:Online Webinar bei Citrix GoToWebinar\, Onlineveranstaltung
CATEGORIES:WatchGuard Webinare
ATTACH;FMTTYPE=image/jpeg:https://wordpress.boc.de/watchguard-info-portal/wp-content/uploads/2019/11/wg-webinare_200x200.jpg
END:VEVENT
END:VCALENDAR