BEGIN:VCALENDAR
VERSION:2.0
PRODID:-//BOC IT-Security GmbH - ECPv6.7.0//NONSGML v1.0//EN
CALSCALE:GREGORIAN
METHOD:PUBLISH
X-ORIGINAL-URL:https://wordpress.boc.de/watchguard-info-portal
X-WR-CALDESC:Veranstaltungen für BOC IT-Security GmbH
REFRESH-INTERVAL;VALUE=DURATION:PT1H
X-Robots-Tag:noindex
X-PUBLISHED-TTL:PT1H
BEGIN:VTIMEZONE
TZID:Europe/Berlin
BEGIN:DAYLIGHT
TZOFFSETFROM:+0100
TZOFFSETTO:+0200
TZNAME:CEST
DTSTART:20260329T010000
END:DAYLIGHT
BEGIN:STANDARD
TZOFFSETFROM:+0200
TZOFFSETTO:+0100
TZNAME:CET
DTSTART:20261025T010000
END:STANDARD
END:VTIMEZONE
BEGIN:VEVENT
DTSTART;TZID=Europe/Berlin:20260206T090000
DTEND;TZID=Europe/Berlin:20260206T094500
DTSTAMP:20260424T134111
CREATED:20260105T115717Z
LAST-MODIFIED:20260105T115954Z
UID:29971-1770368400-1770371100@wordpress.boc.de
SUMMARY:BestPractices.live - Sichere Authentifizierung mit AuthPoint
DESCRIPTION:Inhalt:\nGestohlene Anmeldeinformationen bieten Cyberkriminellen immer wieder einen Zugang zu Unternehmensnetzwerken. Deshalb ist eine starke Multifaktor-Authentifizierung\, wie sie WatchGuard AuthPoint bietet\, entscheidend\, um Zugänge und Ressourcen zuverlässig zu schützen. Dazu gehören Remotezugriffe\, VPN-Verbindungen\, aber auch Web-Anwendungen und Cloud-Dienste. \nIn diesem Webinar zeigen Ihnen WatchGuard-Experten die Funktionen von WatchGuard AuthPoint – mit besonderem Fokus auf die Einrichtung sicherer Zero-Trust-Authentifizierungsregeln. \nJetzt zum Webinar anmelden!
URL:https://wordpress.boc.de/watchguard-info-portal/termine/bestpractices-live-sichere-authentifizierung-mit-authpoint/
LOCATION:Online Webinar bei Citrix GoToWebinar\, Onlineveranstaltung
CATEGORIES:WatchGuard Webinare
ATTACH;FMTTYPE=image/jpeg:https://wordpress.boc.de/watchguard-info-portal/wp-content/uploads/2019/11/wg-webinare_200x200.jpg
END:VEVENT
END:VCALENDAR