BEGIN:VCALENDAR
VERSION:2.0
PRODID:-//BOC IT-Security GmbH - ECPv6.7.0//NONSGML v1.0//EN
CALSCALE:GREGORIAN
METHOD:PUBLISH
X-ORIGINAL-URL:https://wordpress.boc.de/watchguard-info-portal
X-WR-CALDESC:Veranstaltungen für BOC IT-Security GmbH
REFRESH-INTERVAL;VALUE=DURATION:PT1H
X-Robots-Tag:noindex
X-PUBLISHED-TTL:PT1H
BEGIN:VTIMEZONE
TZID:Europe/Berlin
BEGIN:DAYLIGHT
TZOFFSETFROM:+0100
TZOFFSETTO:+0200
TZNAME:CEST
DTSTART:20260329T010000
END:DAYLIGHT
BEGIN:STANDARD
TZOFFSETFROM:+0200
TZOFFSETTO:+0100
TZNAME:CET
DTSTART:20261025T010000
END:STANDARD
END:VTIMEZONE
BEGIN:VEVENT
DTSTART;TZID=Europe/Berlin:20260109T090000
DTEND;TZID=Europe/Berlin:20260109T094500
DTSTAMP:20260424T152746
CREATED:20260105T113254Z
LAST-MODIFIED:20260105T113916Z
UID:29965-1767949200-1767951900@wordpress.boc.de
SUMMARY:BestPractices.live - Neue Funktionen in der Unified Security Platform von WatchGuard Q4/25
DESCRIPTION:Inhalt:\nDie Unified Security Platform von WatchGuard wurde vollständig neu konzipiert\, um leistungsstarke Sicherheitslösungen mit verbesserter Skalierbarkeit\, Geschwindigkeit und Betriebseffizienz bereitzustellen. Die Produktteams von WatchGuard veröffentlichen regelmäßig Updates\, damit Sie stets die präzise und effektive Sicherheit erhalten\, die in der Praxis wirklich zählt. \nIn diesem Webinar entdecken Sie die neuen Funktionen und Erweiterungen der letzten drei Monate. Zu den wichtigsten Highlights zählen: \n\nDNSWatch in WatchGuard Cloud\nweitere ThreatSync+ Integrationen\nFirebox Blocked Sites Liste in WatchGuard Cloud\nManuelle Reihenfolge für Firewall Regeln\n\nJetzt zum Webinar anmelden!
URL:https://wordpress.boc.de/watchguard-info-portal/termine/bestpractices-live-neue-funktionen-in-der-unified-security-platform-von-watchguard-q4-25/
LOCATION:Online Webinar bei Citrix GoToWebinar\, Onlineveranstaltung
CATEGORIES:WatchGuard Webinare
ATTACH;FMTTYPE=image/jpeg:https://wordpress.boc.de/watchguard-info-portal/wp-content/uploads/2019/11/wg-webinare_200x200.jpg
END:VEVENT
END:VCALENDAR