BEGIN:VCALENDAR
VERSION:2.0
PRODID:-//BOC IT-Security GmbH - ECPv6.7.0//NONSGML v1.0//EN
CALSCALE:GREGORIAN
METHOD:PUBLISH
X-WR-CALNAME:BOC IT-Security GmbH
X-ORIGINAL-URL:https://wordpress.boc.de/watchguard-info-portal
X-WR-CALDESC:Veranstaltungen für BOC IT-Security GmbH
REFRESH-INTERVAL;VALUE=DURATION:PT1H
X-Robots-Tag:noindex
X-PUBLISHED-TTL:PT1H
BEGIN:VTIMEZONE
TZID:Europe/Berlin
BEGIN:DAYLIGHT
TZOFFSETFROM:+0100
TZOFFSETTO:+0200
TZNAME:CEST
DTSTART:20250330T010000
END:DAYLIGHT
BEGIN:STANDARD
TZOFFSETFROM:+0200
TZOFFSETTO:+0100
TZNAME:CET
DTSTART:20251026T010000
END:STANDARD
END:VTIMEZONE
BEGIN:VEVENT
DTSTART;TZID=Europe/Berlin:20251219T090000
DTEND;TZID=Europe/Berlin:20251219T094500
DTSTAMP:20260424T170802
CREATED:20251208T122350Z
LAST-MODIFIED:20251208T123124Z
UID:29828-1766134800-1766137500@wordpress.boc.de
SUMMARY:BestPractices.live - Effektiver Schutz durch Zero-Trust Application Service
DESCRIPTION:Inhalt:\nAngesichts der heutigen komplexen Bedrohungsszenarien reicht klassischer Schutz von Endgeräten nicht mehr aus. Der Zero-Trust Application Service von WatchGuard setzt hier neue Maßstäbe\, indem er automatisch nur vertrauenswürdige Anwendungen ausführt – in Echtzeit und ohne manuelles Eingreifen. \nIn diesem Webinar erhalten Sie praxisnahe Einblicke\, wie dieser vollständig verwaltete Service den Verwaltungsaufwand reduziert\, komplexe Angriffe abwehrt und die Sicherheit im Unternehmen nachhaltig stärkt: \n\nWie der Zero-Trust Application Service mithilfe von Künstlicher Intelligenz und kontinuierlicher Überwachung sämtliche laufenden Prozesse überprüft und klassifiziert.\nWelche Unterschiede zwischen dem Hardening-Modus und dem Lock-Modus bestehen und wie beide Varianten eine risikobasierte Kontrolle von Anwendungen ermöglichen.\nWelche Neuerungen der Dienst bietet\, darunter verbesserte automatische Klassifizierungs- und Bedrohungserkennungsfunktionen.\n\nJetzt zum Webinar anmelden!
URL:https://wordpress.boc.de/watchguard-info-portal/termine/bestpractices-live-effektiver-schutz-durch-zero-trust-application-service/
LOCATION:Online Webinar bei Citrix GoToWebinar\, Onlineveranstaltung
CATEGORIES:WatchGuard Webinare
ATTACH;FMTTYPE=image/jpeg:https://wordpress.boc.de/watchguard-info-portal/wp-content/uploads/2019/11/wg-webinare_200x200.jpg
END:VEVENT
END:VCALENDAR