BEGIN:VCALENDAR
VERSION:2.0
PRODID:-//BOC IT-Security GmbH - ECPv6.7.0//NONSGML v1.0//EN
CALSCALE:GREGORIAN
METHOD:PUBLISH
X-ORIGINAL-URL:https://wordpress.boc.de/watchguard-info-portal
X-WR-CALDESC:Veranstaltungen für BOC IT-Security GmbH
REFRESH-INTERVAL;VALUE=DURATION:PT1H
X-Robots-Tag:noindex
X-PUBLISHED-TTL:PT1H
BEGIN:VTIMEZONE
TZID:Europe/Berlin
BEGIN:DAYLIGHT
TZOFFSETFROM:+0100
TZOFFSETTO:+0200
TZNAME:CEST
DTSTART:20250330T010000
END:DAYLIGHT
BEGIN:STANDARD
TZOFFSETFROM:+0200
TZOFFSETTO:+0100
TZNAME:CET
DTSTART:20251026T010000
END:STANDARD
END:VTIMEZONE
BEGIN:VEVENT
DTSTART;TZID=Europe/Berlin:20251211T150000
DTEND;TZID=Europe/Berlin:20251211T160000
DTSTAMP:20260424T171106
CREATED:20251208T121533Z
LAST-MODIFIED:20251208T122252Z
UID:29825-1765465200-1765468800@wordpress.boc.de
SUMMARY:BestPractices.live - Die VPN-Falle: Warum klassischer Remote Access heute versagt
DESCRIPTION:Inhalt:\nFrüher galten VPNs als sichere Basis für den Fernzugriff auf Unternehmensnetzwerke. Heute stellen sie jedoch für Angreifer oft einen der einfachsten Einstiegspunkte dar. Veraltete VPN-Verbindungen erhöhen das Risiko von gestohlenen Zugangsdaten\, laterale  Bewegungen innerhalb des Netzwerks und der unbemerkten Weitergabe sensibler Informationen – und hinterlassen IT-Abteilungen oft ratlos\, während Unternehmen verwundbar bleiben. \nIn diesem Webinar zeigen WatchGuard-Experten die versteckten Risiken von SSL-VPNs auf und erläutern\, wie ein Zero-Trust-Ansatz diese Sicherheitslücken schließen kann. Entdecken Sie\, wie Sie Mitarbeitern einen schnelleren\, sichereren und unkomplizierten Zugriff ermöglichen\, ohne die Gefahren und den Aufwand traditioneller Remote-VPN-Lösungen. \n\nWarum VPNs heute häufig als Einfallstor für Cyberangriffe genutzt werden\nWelche tatsächlichen Aufwände und Kosten mit dem Betrieb von Remote-VPNs verbunden sind\nWie Zero-Trust-Access die Sicherheit in hybriden IT-Umgebungen erhöht\nAuf welche Weise Managed Service Provider ihre Sicherheitsstrategien mit Zero-Trust-Access-Services optimieren können\n\nJetzt zum Webinar anmelden!
URL:https://wordpress.boc.de/watchguard-info-portal/termine/bestpractices-live-die-vpn-falle-warum-klassischer-remote-access-heute-versagt/
LOCATION:Online Webinar bei Citrix GoToWebinar\, Onlineveranstaltung
CATEGORIES:WatchGuard Webinare
ATTACH;FMTTYPE=image/jpeg:https://wordpress.boc.de/watchguard-info-portal/wp-content/uploads/2019/11/wg-webinare_200x200.jpg
END:VEVENT
END:VCALENDAR