BEGIN:VCALENDAR
VERSION:2.0
PRODID:-//BOC IT-Security GmbH - ECPv6.7.0//NONSGML v1.0//EN
CALSCALE:GREGORIAN
METHOD:PUBLISH
X-ORIGINAL-URL:https://wordpress.boc.de/watchguard-info-portal
X-WR-CALDESC:Veranstaltungen für BOC IT-Security GmbH
REFRESH-INTERVAL;VALUE=DURATION:PT1H
X-Robots-Tag:noindex
X-PUBLISHED-TTL:PT1H
BEGIN:VTIMEZONE
TZID:Europe/Berlin
BEGIN:DAYLIGHT
TZOFFSETFROM:+0100
TZOFFSETTO:+0200
TZNAME:CEST
DTSTART:20250330T010000
END:DAYLIGHT
BEGIN:STANDARD
TZOFFSETFROM:+0200
TZOFFSETTO:+0100
TZNAME:CET
DTSTART:20251026T010000
END:STANDARD
END:VTIMEZONE
BEGIN:VEVENT
DTSTART;TZID=Europe/Berlin:20251121T090000
DTEND;TZID=Europe/Berlin:20251121T094500
DTSTAMP:20260424T183220
CREATED:20251119T111134Z
LAST-MODIFIED:20251215T153451Z
UID:29733-1763715600-1763718300@wordpress.boc.de
SUMMARY:BestPractices.live - Cyberangriffe im Griff: 24/7 Schutz mit WatchGuard Total MDR
DESCRIPTION:Inhalt:\nModerne Cyberangriffe werden immer komplexer – umso wichtiger ist ein Service\, der echte Bedrohungen zuverlässig identifiziert und sofort reagiert. \nIn diesem Webinar erfahren Sie alles über WatchGuard Total MDR: den vollständig verwalteten 24/7-Service zur Erkennung\, Analyse und Abwehr von Sicherheitsvorfällen. Lernen Sie\, wie dieser MDR-Service sämtliche WatchGuard-Sicherheitslösungen intelligent verbindet und Ihr Unternehmen rund um die Uhr schützt. \nDas erwartet Sie im Webinar: \n\nWarum MDR derzeit für alle Unternehmen von entscheidender Bedeutung ist.\nWie WatchGuard Total MDR produktspezifische Abwehrmaßnahmen vereint.\nDie sofortigen Reaktionsmöglichkeiten von Total MDR.\nLive-Demo: Ein Blick in das Managed Services Portal.\n\nWebinaraufzeichnung jetzt ansehen!
URL:https://wordpress.boc.de/watchguard-info-portal/termine/bestpractices-live-cyberangriffe-im-griff-24-7-schutz-mit-watchguard-total-mdr/
LOCATION:Online Webinar bei Citrix GoToWebinar\, Onlineveranstaltung
CATEGORIES:WatchGuard Webinare
ATTACH;FMTTYPE=image/jpeg:https://wordpress.boc.de/watchguard-info-portal/wp-content/uploads/2019/11/wg-webinare_200x200.jpg
END:VEVENT
END:VCALENDAR