BEGIN:VCALENDAR
VERSION:2.0
PRODID:-//BOC IT-Security GmbH - ECPv6.7.0//NONSGML v1.0//EN
CALSCALE:GREGORIAN
METHOD:PUBLISH
X-ORIGINAL-URL:https://wordpress.boc.de/watchguard-info-portal
X-WR-CALDESC:Veranstaltungen für BOC IT-Security GmbH
REFRESH-INTERVAL;VALUE=DURATION:PT1H
X-Robots-Tag:noindex
X-PUBLISHED-TTL:PT1H
BEGIN:VTIMEZONE
TZID:Europe/Berlin
BEGIN:DAYLIGHT
TZOFFSETFROM:+0100
TZOFFSETTO:+0200
TZNAME:CEST
DTSTART:20250330T010000
END:DAYLIGHT
BEGIN:STANDARD
TZOFFSETFROM:+0200
TZOFFSETTO:+0100
TZNAME:CET
DTSTART:20251026T010000
END:STANDARD
END:VTIMEZONE
BEGIN:VEVENT
DTSTART;TZID=Europe/Berlin:20251107T090000
DTEND;TZID=Europe/Berlin:20251107T100000
DTSTAMP:20260424T183245
CREATED:20251104T103707Z
LAST-MODIFIED:20251104T104148Z
UID:29564-1762506000-1762509600@wordpress.boc.de
SUMMARY:BestPractices.live - Vereinfachung der VPN-Komplexität mit FireCloud Total Access
DESCRIPTION:Inhalt:\nWatchGuard FireCloud Total Access setzt auf ein konsequentes Zero-Trust-Modell und wird zentral in der WatchGuard Cloud verwaltet. Die Plattform bietet schnellen\, sicheren und unkomplizierten Zugriff auf alle Anwendungen – jederzeit und von überall. \nIn diesem Webinar erleben Sie FireCloud live in Aktion und erfahren\, wie Sie die Lösung als Schlüsselkomponente für moderne\, cloudbasierte Netzwerke positionieren können. \nDas erwartet Sie im Webinar: \n\nSicherer Fernzugriff ohne VPN: So ermöglicht FireCloud eine nahtlose und geschützte Verbindung für Benutzer.\nEinfache Bereitstellung: Lernen Sie\, wie Sie in nur wenigen Minuten zentrale Zero-Trust-Richtlinien implementieren.\nLive-Demo: Erhalten Sie exklusive Einblicke in Konfiguration\, Monitoring und reale Einsatzszenarien.\n\nJetzt zum Webinar anmelden!
URL:https://wordpress.boc.de/watchguard-info-portal/termine/bestpractices-live-vereinfachung-der-vpn-komplexitaet-mit-firecloud-total-access/
LOCATION:Online Webinar bei Citrix GoToWebinar\, Onlineveranstaltung
CATEGORIES:WatchGuard Webinare
ATTACH;FMTTYPE=image/jpeg:https://wordpress.boc.de/watchguard-info-portal/wp-content/uploads/2019/11/wg-webinare_200x200.jpg
END:VEVENT
END:VCALENDAR