BEGIN:VCALENDAR
VERSION:2.0
PRODID:-//BOC IT-Security GmbH - ECPv6.7.0//NONSGML v1.0//EN
CALSCALE:GREGORIAN
METHOD:PUBLISH
X-ORIGINAL-URL:https://wordpress.boc.de/watchguard-info-portal
X-WR-CALDESC:Veranstaltungen für BOC IT-Security GmbH
REFRESH-INTERVAL;VALUE=DURATION:PT1H
X-Robots-Tag:noindex
X-PUBLISHED-TTL:PT1H
BEGIN:VTIMEZONE
TZID:Europe/Berlin
BEGIN:DAYLIGHT
TZOFFSETFROM:+0100
TZOFFSETTO:+0200
TZNAME:CEST
DTSTART:20250330T010000
END:DAYLIGHT
BEGIN:STANDARD
TZOFFSETFROM:+0200
TZOFFSETTO:+0100
TZNAME:CET
DTSTART:20251026T010000
END:STANDARD
END:VTIMEZONE
BEGIN:VEVENT
DTSTART;TZID=Europe/Berlin:20251015T150000
DTEND;TZID=Europe/Berlin:20251015T160000
DTSTAMP:20260424T201327
CREATED:20251013T141139Z
LAST-MODIFIED:20251020T152550Z
UID:29406-1760540400-1760544000@wordpress.boc.de
SUMMARY:BestPractices.live - VPN war gestern – die neue Freiheit heißt FireCloud Total Access
DESCRIPTION:Inhalt:\nVPN reicht nicht mehr – moderne Arbeitswelten brauchen moderne Sicherheit. FireCloud Total Access bietet identitätsbasierten Zugriff\, cloudbasierte Schutzmechanismen und maximale Flexibilität für Ihre hybride Belegschaft. \nErleben Sie in diesem Webinar\, wie WatchGuard SASE neu denkt: mit FWaaS\, SWG und ZTNA für rundum sicheren Zugriff auf genau die Apps und Daten\, die Ihr Team braucht. Neben umfangreichen Hintergrundinformationen zu den Einsatz-Szenarien und Anforderungen stehen Live-Einblicke im Fokus dieses Webinars – sowohl aus Sicht der Anwenderinnen und Anwender der FireCloud Lösung als auch im Hinblick auf die Verwaltungsmöglichkeiten innerhalb der WatchGuard Cloud. \nDas erwartet Sie: \n\nNotwendigkeit einer neuen Sicherheits-Architektur für die hybride Arbeitswelt\nWarum VPN nicht mehr ausreicht?\nMehrwerte der SASE-Lösung FireCloud Total Access\nLive Demo der Lösung\n\nJetzt zum Webinar anmelden!
URL:https://wordpress.boc.de/watchguard-info-portal/termine/bestpractices-live-vpn-war-gestern-die-neue-freiheit-heisst-firecloud-total-access/
LOCATION:Online Webinar bei Citrix GoToWebinar\, Onlineveranstaltung
CATEGORIES:WatchGuard Webinare
ATTACH;FMTTYPE=image/jpeg:https://wordpress.boc.de/watchguard-info-portal/wp-content/uploads/2019/11/wg-webinare_200x200.jpg
END:VEVENT
END:VCALENDAR