BEGIN:VCALENDAR
VERSION:2.0
PRODID:-//BOC IT-Security GmbH - ECPv6.7.0//NONSGML v1.0//EN
CALSCALE:GREGORIAN
METHOD:PUBLISH
X-ORIGINAL-URL:https://wordpress.boc.de/watchguard-info-portal
X-WR-CALDESC:Veranstaltungen für BOC IT-Security GmbH
REFRESH-INTERVAL;VALUE=DURATION:PT1H
X-Robots-Tag:noindex
X-PUBLISHED-TTL:PT1H
BEGIN:VTIMEZONE
TZID:Europe/Berlin
BEGIN:DAYLIGHT
TZOFFSETFROM:+0100
TZOFFSETTO:+0200
TZNAME:CEST
DTSTART:20250330T010000
END:DAYLIGHT
BEGIN:STANDARD
TZOFFSETFROM:+0200
TZOFFSETTO:+0100
TZNAME:CET
DTSTART:20251026T010000
END:STANDARD
END:VTIMEZONE
BEGIN:VEVENT
DTSTART;TZID=Europe/Berlin:20250722T150000
DTEND;TZID=Europe/Berlin:20250722T154500
DTSTAMP:20260425T005427
CREATED:20250713T213522Z
LAST-MODIFIED:20260224T095922Z
UID:28510-1753196400-1753199100@wordpress.boc.de
SUMMARY:BestPractices.live - Die Rolle von MDR beim Schutz von Identitäten\, Cloud\, Endgeräten und Netzwerken
DESCRIPTION:Inhalt:\nCyber-Bedrohungen entwickeln sich in allen Bereichen Ihrer IT-Umgebung\, von Endgeräten und Cloud-Plattformen bis hin zu Benutzeridentitäten und Netzwerkschichten\, weshalb herkömmliche Tools nicht mehr mithalten können. In diesem Webinar wird gezeigt\, wie Managed Detection and Response (MDR) koordinierten Schutz über alle vier Angriffsflächen hinweg bietet und wie MDR Bedrohungen in jedem Layer identifiziert und stoppt\, welche Signale am wichtigsten sind und wie Partner mit weniger Lärm\, weniger Fehlalarmen und schnelleren Reaktionszeiten bessere Ergebnisse erzielen können. \nIn diesem Webinar geht es u.a. um folgende praktischen Inhalte zum Thema MDR: \n\nErfahren Sie\, wie MDR Bedrohungen über Identität\, Cloud\, Endpunkte und Netzwerk hinweg erkennt und stoppt – noch bevor Schaden entsteht.\nVerstehen Sie\, warum isolierte Tools nicht ausreichen und wie eine einheitliche Bedrohungstransparenz alles verändert.\nLernen Sie\, wie WatchGuard MDR künstliche Intelligenz und menschliche Expertise kombiniert\, um den Lärm zu reduzieren und die Reaktion zu beschleunigen.\nEntdecken Sie\, wie Partner Sicherheitsdienste skalieren und bessere Ergebnisse erzielen können – ohne zusätzliche Tools oder mehr Personal.\n\nWebinaraufzeichnung jetzt ansehen!
URL:https://wordpress.boc.de/watchguard-info-portal/termine/bestpractices-live-die-rolle-von-mdr-beim-schutz-von-identitaeten-cloud-endgeraeten-und-netzwerken/
LOCATION:Online Webinar bei Citrix GoToWebinar\, Onlineveranstaltung
CATEGORIES:WatchGuard Webinare
ATTACH;FMTTYPE=image/jpeg:https://wordpress.boc.de/watchguard-info-portal/wp-content/uploads/2019/11/wg-webinare_200x200.jpg
END:VEVENT
END:VCALENDAR