BEGIN:VCALENDAR
VERSION:2.0
PRODID:-//BOC IT-Security GmbH - ECPv6.7.0//NONSGML v1.0//EN
CALSCALE:GREGORIAN
METHOD:PUBLISH
X-WR-CALNAME:BOC IT-Security GmbH
X-ORIGINAL-URL:https://wordpress.boc.de/watchguard-info-portal
X-WR-CALDESC:Veranstaltungen für BOC IT-Security GmbH
REFRESH-INTERVAL;VALUE=DURATION:PT1H
X-Robots-Tag:noindex
X-PUBLISHED-TTL:PT1H
BEGIN:VTIMEZONE
TZID:Europe/Berlin
BEGIN:DAYLIGHT
TZOFFSETFROM:+0100
TZOFFSETTO:+0200
TZNAME:CEST
DTSTART:20250330T010000
END:DAYLIGHT
BEGIN:STANDARD
TZOFFSETFROM:+0200
TZOFFSETTO:+0100
TZNAME:CET
DTSTART:20251026T010000
END:STANDARD
END:VTIMEZONE
BEGIN:VEVENT
DTSTART;TZID=Europe/Berlin:20250620T090000
DTEND;TZID=Europe/Berlin:20250620T094500
DTSTAMP:20260425T021721
CREATED:20250617T083642Z
LAST-MODIFIED:20251119T105852Z
UID:28383-1750410000-1750412700@wordpress.boc.de
SUMMARY:BestPractices.live - Sichere und redundante Standortverbindung per BOVPN und SD-Wan mit Firebox Appliances
DESCRIPTION:Inhalt:\nWatchGuard Firebox Systeme sind bekannt für Ihre vielseitigen und leistungsstarken Möglichkeiten im Bereich VPN und Site-to-Site Verbindungen. Ganz im Sinne eines Best-Practices Webinars zeigen WatchGuard-Experten auf\, wie Sie mit Cloud-managed und Local-managed Firebox Appliances effizient und sicher Standort zu Standort Verbindungen implementieren können. \nDabei geht es u.a. um folgende Firebox BOVPN-Funktionen und SD-WAN Technologien: \n\nBest Practices für ein belastbares und redundantes Netzwerk\nEinfluss von SD-WAN auf BOVPN Verbindungen\nVorteile der Cloud-Verwaltung gegenüber der lokalen Verwaltung\nNeue verfügbare Optionen für Cloud-verwaltete VPNs\n\nWebinaraufzeichnung jetzt ansehen!
URL:https://wordpress.boc.de/watchguard-info-portal/termine/bestpractices-live-sichere-und-redundante-standortverbindung-per-bovpn-und-sd-wan-mit-firebox-appliances/
LOCATION:Online Webinar bei Citrix GoToWebinar\, Onlineveranstaltung
CATEGORIES:WatchGuard Webinare
ATTACH;FMTTYPE=image/jpeg:https://wordpress.boc.de/watchguard-info-portal/wp-content/uploads/2019/11/wg-webinare_200x200.jpg
END:VEVENT
END:VCALENDAR