BEGIN:VCALENDAR
VERSION:2.0
PRODID:-//BOC IT-Security GmbH - ECPv6.7.0//NONSGML v1.0//EN
CALSCALE:GREGORIAN
METHOD:PUBLISH
X-ORIGINAL-URL:https://wordpress.boc.de/watchguard-info-portal
X-WR-CALDESC:Veranstaltungen für BOC IT-Security GmbH
REFRESH-INTERVAL;VALUE=DURATION:PT1H
X-Robots-Tag:noindex
X-PUBLISHED-TTL:PT1H
BEGIN:VTIMEZONE
TZID:Europe/Berlin
BEGIN:DAYLIGHT
TZOFFSETFROM:+0100
TZOFFSETTO:+0200
TZNAME:CEST
DTSTART:20250330T010000
END:DAYLIGHT
BEGIN:STANDARD
TZOFFSETFROM:+0200
TZOFFSETTO:+0100
TZNAME:CET
DTSTART:20251026T010000
END:STANDARD
END:VTIMEZONE
BEGIN:VEVENT
DTSTART;TZID=Europe/Berlin:20250606T090000
DTEND;TZID=Europe/Berlin:20250606T094500
DTSTAMP:20260425T023044
CREATED:20250527T093827Z
LAST-MODIFIED:20251021T092813Z
UID:28281-1749200400-1749203100@wordpress.boc.de
SUMMARY:BestPractices.live - Verlagerung der Firebox Konfiguration von lokaler Verwaltung in die WatchGuard Cloud
DESCRIPTION:Inhalt:\nWatchGuard Cloud bietet eine schnelle\, intuitive Benutzeroberfläche\, die auch für neue IT-Mitarbeiter einfach zu bedienen und schnell zu erlernen ist. Durch die Cloud-Verwaltung entfällt die Notwendigkeit\, einen Verwaltungsserver vor Ort zu unterhalten und zu sichern. Über die Konsole können Sie wiederverwendbare Vorlagen für eine optimierte Konfiguration erstellen und so für konsistente Sicherheit in Ihrem gesamten Netzwerk sorgen. Daher wird oft über die Möglichkeit einer Umstellung von bestehender lokaler Verwaltung zu Cloud-Verwaltung nachgedacht. Auch bei einem Wechsel einer älteren Firebox Hardware zu einem neuen Modell stellt sich häufig die Frage\, ob auch ein Wechsel von lokaler zu Cloud-basierter Verwaltung sinnvoll ist. Die Vor- und Nachteile werden in diesem Webinar diskutiert. \nAußerdem werden die besten Strategien zur Migration von lokal verwalteten Firebox Systemen zum Cloud-Management von Fireboxen erläutert sowie folgende Themen besprochen: \n\nGegenüberstellung der Verwaltungsmöglichkeiten\nVorbereitung der Migration\nWerkzeuge und Dienste\, die eine Umstellung der Konfiguration erleichtern können\n\nWebinaraufzeichnung jetzt ansehen!
URL:https://wordpress.boc.de/watchguard-info-portal/termine/bestpractices-live-verlagerung-der-firebox-konfiguration-von-lokaler-verwaltung-in-die-watchguard-cloud/
LOCATION:Online Webinar bei Citrix GoToWebinar\, Onlineveranstaltung
CATEGORIES:WatchGuard Webinare
ATTACH;FMTTYPE=image/jpeg:https://wordpress.boc.de/watchguard-info-portal/wp-content/uploads/2019/11/wg-webinare_200x200.jpg
END:VEVENT
END:VCALENDAR