BEGIN:VCALENDAR
VERSION:2.0
PRODID:-//BOC IT-Security GmbH - ECPv6.7.0//NONSGML v1.0//EN
CALSCALE:GREGORIAN
METHOD:PUBLISH
X-WR-CALNAME:BOC IT-Security GmbH
X-ORIGINAL-URL:https://wordpress.boc.de/watchguard-info-portal
X-WR-CALDESC:Veranstaltungen für BOC IT-Security GmbH
REFRESH-INTERVAL;VALUE=DURATION:PT1H
X-Robots-Tag:noindex
X-PUBLISHED-TTL:PT1H
BEGIN:VTIMEZONE
TZID:Europe/Berlin
BEGIN:DAYLIGHT
TZOFFSETFROM:+0100
TZOFFSETTO:+0200
TZNAME:CEST
DTSTART:20250330T010000
END:DAYLIGHT
BEGIN:STANDARD
TZOFFSETFROM:+0200
TZOFFSETTO:+0100
TZNAME:CET
DTSTART:20251026T010000
END:STANDARD
END:VTIMEZONE
BEGIN:VEVENT
DTSTART;TZID=Europe/Berlin:20250410T140000
DTEND;TZID=Europe/Berlin:20250410T150000
DTSTAMP:20260425T052956
CREATED:20250407T150221Z
LAST-MODIFIED:20250715T115818Z
UID:27741-1744293600-1744297200@wordpress.boc.de
SUMMARY:BestPractices.live - Migration von Panda zu WatchGuard Endpoint Security
DESCRIPTION:Inhalt:\nIn diesem Webinar geht es um die einfache Umsetzung der Migration von Panda zu WatchGuard Endpoint Security und welche Mehrwerte Sie hierdurch erhalten. \nEs werden praktische Tipps zur Planung\, die technische Durchführung sowie mögliche Herausforderungen aufgezeigt. Zudem werden bewährte Methoden und Erfolgsgeschichten vorgestellt. Am Ende besteht die Möglichkeit\, offene Fragen zu stellen. \nFolgende Themen werden behandelt: \n\nÜberblick über Panda und WatchGuard\nWarum der Wechsel zu WatchGuard sinnvoll ist\nPlanung der Migration: Best Practices\nTechnische Durchführung der Migration\nPraktische Beispiele und Erfolgsgeschichten\nOffene Fragerunde für die Teilnehmer\n\nWebinaraufzeichnung jetzt ansehen!
URL:https://wordpress.boc.de/watchguard-info-portal/termine/bestpractices-live-migration-von-panda-zu-watchguard-endpoint-security/
LOCATION:Online Webinar bei Citrix GoToWebinar\, Onlineveranstaltung
CATEGORIES:WatchGuard Webinare
ATTACH;FMTTYPE=image/jpeg:https://wordpress.boc.de/watchguard-info-portal/wp-content/uploads/2019/11/wg-webinare_200x200.jpg
END:VEVENT
END:VCALENDAR