BEGIN:VCALENDAR
VERSION:2.0
PRODID:-//BOC IT-Security GmbH - ECPv6.7.0//NONSGML v1.0//EN
CALSCALE:GREGORIAN
METHOD:PUBLISH
X-WR-CALNAME:BOC IT-Security GmbH
X-ORIGINAL-URL:https://wordpress.boc.de/watchguard-info-portal
X-WR-CALDESC:Veranstaltungen für BOC IT-Security GmbH
REFRESH-INTERVAL;VALUE=DURATION:PT1H
X-Robots-Tag:noindex
X-PUBLISHED-TTL:PT1H
BEGIN:VTIMEZONE
TZID:Europe/Berlin
BEGIN:DAYLIGHT
TZOFFSETFROM:+0100
TZOFFSETTO:+0200
TZNAME:CEST
DTSTART:20240331T010000
END:DAYLIGHT
BEGIN:STANDARD
TZOFFSETFROM:+0200
TZOFFSETTO:+0100
TZNAME:CET
DTSTART:20241027T010000
END:STANDARD
END:VTIMEZONE
BEGIN:VEVENT
DTSTART;TZID=Europe/Berlin:20241218T100000
DTEND;TZID=Europe/Berlin:20241218T110000
DTSTAMP:20260425T122504
CREATED:20241011T105808Z
LAST-MODIFIED:20241011T110243Z
UID:25294-1734516000-1734519600@wordpress.boc.de
SUMMARY:Webinarreihe - Das Passwort als Zugang oder Schutzschild für Ihr Unternehmen
DESCRIPTION:Inhalt:\nErfahren Sie\, wie AuthPoint Total Identity Security Ihnen die Werkzeuge an die Hand gibt\, die sie benötigen\, um in einer zunehmend digitalen Welt sicher zu bleiben\, indem Identitäten\, Vermögenswerte\, Konten und Informationen geschützt werden. In diesem Webinar geht es um die Funktionen\, die wichtigsten Vorteile und warum der Identitätsschutz ein wichtiges Element in jedem Unternehmen ist. \nDie Webinarreihe zur Steigerung der Cybersicherheit mit WatchGuard besteht aus 3 Teilen. Es werden verschiedenen Lösungen von WatchGuard vorgestellt und die wichtigsten Themen für die Aufrechterhaltung einer robusten und proaktiven Sicherheit behandelt. Jede Sitzung wird sich auf bestimmte Aspekte des Angebots konzentrieren und einen praktischen Einblick in die Integration und Optimierung dieser Lösungen in Ihrem Unternehmen geben. \nJetzt zum Webinar anmelden!
URL:https://wordpress.boc.de/watchguard-info-portal/termine/webinarreihe-das-passwort-als-zugang-oder-schutzschild-fuer-ihr-unternehmen/
LOCATION:Online Webinar bei Citrix GoToWebinar\, Onlineveranstaltung
CATEGORIES:WatchGuard Webinare
ATTACH;FMTTYPE=image/jpeg:https://wordpress.boc.de/watchguard-info-portal/wp-content/uploads/2019/11/wg-webinare_200x200.jpg
END:VEVENT
END:VCALENDAR