BEGIN:VCALENDAR
VERSION:2.0
PRODID:-//BOC IT-Security GmbH - ECPv6.7.0//NONSGML v1.0//EN
CALSCALE:GREGORIAN
METHOD:PUBLISH
X-ORIGINAL-URL:https://wordpress.boc.de/watchguard-info-portal
X-WR-CALDESC:Veranstaltungen für BOC IT-Security GmbH
REFRESH-INTERVAL;VALUE=DURATION:PT1H
X-Robots-Tag:noindex
X-PUBLISHED-TTL:PT1H
BEGIN:VTIMEZONE
TZID:Europe/Berlin
BEGIN:DAYLIGHT
TZOFFSETFROM:+0100
TZOFFSETTO:+0200
TZNAME:CEST
DTSTART:20240331T010000
END:DAYLIGHT
BEGIN:STANDARD
TZOFFSETFROM:+0200
TZOFFSETTO:+0100
TZNAME:CET
DTSTART:20241027T010000
END:STANDARD
END:VTIMEZONE
BEGIN:VEVENT
DTSTART;TZID=Europe/Berlin:20241206T090000
DTEND;TZID=Europe/Berlin:20241206T094500
DTSTAMP:20260425T121545
CREATED:20241030T123619Z
LAST-MODIFIED:20250318T172813Z
UID:25574-1733475600-1733478300@wordpress.boc.de
SUMMARY:BestPractices.live - Advanced EPDR vs. EPDR
DESCRIPTION:Inhalt:\nWatchGuard Advanced EPDR erweitert WatchGuard EPDR um zusätzliche Funktionen\, die speziell für Security Operations-Teams entwickelt wurden\, um zusätzliche Managed Services zur Erkennung\, Eindämmung und Beseitigung unentdeckter hochentwickelter Bedrohungen auf den Endpunkten anzubieten. \nIn diesem Webinar werden WatchGuard Security-Experten die zusätzlichen Funktionen vorstellen\, die SOC-Teams unterstützen\, darunter: \n\nZentralisierte Verwaltung und Suchmaschine für IoCs\, die mit STIX- und YARA-Regeln kompatibel sind\nEntdeckung von fortgeschrittenen\, nicht-deterministischen IoAs\, die dem MITRE ATT&CK-Framework zugeordnet sind\nRemote Shell\, die eine weitere Untersuchung\, Eindämmung und Abschwächung von Bedrohungen ermöglicht\n\nWebinaraufzeichnung jetzt ansehen!
URL:https://wordpress.boc.de/watchguard-info-portal/termine/bestpractices-live-advanced-epdr-vs-epdr/
LOCATION:Online Webinar bei Citrix GoToWebinar\, Onlineveranstaltung
CATEGORIES:WatchGuard Webinare
ATTACH;FMTTYPE=image/jpeg:https://wordpress.boc.de/watchguard-info-portal/wp-content/uploads/2019/11/wg-webinare_200x200.jpg
END:VEVENT
END:VCALENDAR