BEGIN:VCALENDAR
VERSION:2.0
PRODID:-//BOC IT-Security GmbH - ECPv6.7.0//NONSGML v1.0//EN
CALSCALE:GREGORIAN
METHOD:PUBLISH
X-WR-CALNAME:BOC IT-Security GmbH
X-ORIGINAL-URL:https://wordpress.boc.de/watchguard-info-portal
X-WR-CALDESC:Veranstaltungen für BOC IT-Security GmbH
REFRESH-INTERVAL;VALUE=DURATION:PT1H
X-Robots-Tag:noindex
X-PUBLISHED-TTL:PT1H
BEGIN:VTIMEZONE
TZID:Europe/Berlin
BEGIN:DAYLIGHT
TZOFFSETFROM:+0100
TZOFFSETTO:+0200
TZNAME:CEST
DTSTART:20240331T010000
END:DAYLIGHT
BEGIN:STANDARD
TZOFFSETFROM:+0200
TZOFFSETTO:+0100
TZNAME:CET
DTSTART:20241027T010000
END:STANDARD
END:VTIMEZONE
BEGIN:VEVENT
DTSTART;TZID=Europe/Berlin:20241025T090000
DTEND;TZID=Europe/Berlin:20241025T094500
DTSTAMP:20260425T154806
CREATED:20240930T114727Z
LAST-MODIFIED:20250204T161803Z
UID:25076-1729846800-1729849500@wordpress.boc.de
SUMMARY:BestPractices.live - Neuer AuthPoint MFA Agent für Mac Clients
DESCRIPTION:Inhalt:\nLaut IDC werden bis zu 50-60 % der Macs in Unternehmen nicht verwaltet: Es fehlt an Produkten und Fachwissen für die Verwaltung von Mac-Geräten. Jede neue Generation\, die in die Arbeitswelt eintritt\, hat Einfluss auf die Unternehmenskultur. Die aktuelle Generation ist Apple-Produkten treu ergeben. \nApples macOS hat einen Marktanteil von 13\,47 % in Deutschland und 5 % weltweit. Es ist wichtig\, dass Identitätslösungen Sicherheitsschutz für Mac-Systeme bieten und nicht nur für MS Windows. Die neue AuthPoint Logon App für Mac Version 2.0 stellt ein signifikantes Upgrade gegenüber der Vorgängerversion dar und zeichnet sich durch ein umfassendes Redesign in Bezug auf Benutzerfreundlichkeit und Architektur aus. \nIn diesem Webinar geht es u.a. um die folgenden Themen: \n\nDie vollständige Kompatibilität mit den jüngsten Mac OS-Updates\nWie AuthPoint MFA jetzt Vorgänge absichert\, die eine Erhöhung der Berechtigungen erfordern\nWie der neue Client erweiterte Unterstützung für Deployment-Tools bietet\n\nWebinaraufzeichnung jetzt ansehen!
URL:https://wordpress.boc.de/watchguard-info-portal/termine/bestpractices-live-neuer-authpoint-mfa-agent-fuer-mac-clients/
LOCATION:Online Webinar bei Citrix GoToWebinar\, Onlineveranstaltung
CATEGORIES:WatchGuard Webinare
ATTACH;FMTTYPE=image/jpeg:https://wordpress.boc.de/watchguard-info-portal/wp-content/uploads/2019/11/wg-webinare_200x200.jpg
END:VEVENT
END:VCALENDAR