BEGIN:VCALENDAR
VERSION:2.0
PRODID:-//BOC IT-Security GmbH - ECPv6.7.0//NONSGML v1.0//EN
CALSCALE:GREGORIAN
METHOD:PUBLISH
X-ORIGINAL-URL:https://wordpress.boc.de/watchguard-info-portal
X-WR-CALDESC:Veranstaltungen für BOC IT-Security GmbH
REFRESH-INTERVAL;VALUE=DURATION:PT1H
X-Robots-Tag:noindex
X-PUBLISHED-TTL:PT1H
BEGIN:VTIMEZONE
TZID:Europe/Berlin
BEGIN:DAYLIGHT
TZOFFSETFROM:+0100
TZOFFSETTO:+0200
TZNAME:CEST
DTSTART:20240331T010000
END:DAYLIGHT
BEGIN:STANDARD
TZOFFSETFROM:+0200
TZOFFSETTO:+0100
TZNAME:CET
DTSTART:20241027T010000
END:STANDARD
END:VTIMEZONE
BEGIN:VEVENT
DTSTART;TZID=Europe/Berlin:20241022T090000
DTEND;TZID=Europe/Berlin:20241024T180000
DTSTAMP:20260425T155220
CREATED:20240731T143423Z
LAST-MODIFIED:20240801T123221Z
UID:21754-1729587600-1729792800@wordpress.boc.de
SUMMARY:it-sa Expo&Congress 2024
DESCRIPTION:Auch dieses Jahr ist die BOC IT-Security GmbH mit WatchGuard wieder auf der it-sa vertreten. Die it-sa ist Europas größte Fachmesse für IT-Security und eine der bedeutendsten Plattformen für Lösungen rund um die Themen Cloud- und Mobile-Security\, Daten- und Netzwerksicherheit oder die Absicherung kritischer Infrastrukturen und der Industrie 4.0 weltweit.\n\nWeitere Informationen finden Sie in unserem Blog unter >> Kostenloses Ticket für die it-sa Fachmesse 2024.
URL:https://wordpress.boc.de/watchguard-info-portal/termine/it-sa-expocongress-2024/
LOCATION:Messezentrum Nürnberg\, Messezentrum 1\, Nürnberg\, 90471\, Deutschland
CATEGORIES:Messen & sonstige Veranstaltungen
END:VEVENT
END:VCALENDAR