BEGIN:VCALENDAR
VERSION:2.0
PRODID:-//BOC IT-Security GmbH - ECPv6.7.0//NONSGML v1.0//EN
CALSCALE:GREGORIAN
METHOD:PUBLISH
X-ORIGINAL-URL:https://wordpress.boc.de/watchguard-info-portal
X-WR-CALDESC:Veranstaltungen für BOC IT-Security GmbH
REFRESH-INTERVAL;VALUE=DURATION:PT1H
X-Robots-Tag:noindex
X-PUBLISHED-TTL:PT1H
BEGIN:VTIMEZONE
TZID:Europe/Berlin
BEGIN:DAYLIGHT
TZOFFSETFROM:+0100
TZOFFSETTO:+0200
TZNAME:CEST
DTSTART:20240331T010000
END:DAYLIGHT
BEGIN:STANDARD
TZOFFSETFROM:+0200
TZOFFSETTO:+0100
TZNAME:CET
DTSTART:20241027T010000
END:STANDARD
END:VTIMEZONE
BEGIN:VEVENT
DTSTART;TZID=Europe/Berlin:20240913T090000
DTEND;TZID=Europe/Berlin:20240913T094500
DTSTAMP:20260425T173657
CREATED:20240904T093834Z
LAST-MODIFIED:20241210T155439Z
UID:24577-1726218000-1726220700@wordpress.boc.de
SUMMARY:BestPractices.live - Benutzer- und Gruppenverwaltung in der WatchGuard Cloud
DESCRIPTION:Inhalt:\nBenutzer und deren Gruppenzugehörigkeit sind zur Umsetzung umfassender Sicherheitsrichtlinien und der Implementierung von Zero-Trust Szenarien von großer Bedeutung. In der WatchGuard Cloud Plattform stehen effiziente Möglichkeiten zur Verwaltung von Benutzern und Gruppen zur Verfügung und auch die Synchronisation von externen Identitäts-Datenbanken (z.B. Active Directory ) erfolgt leicht und intuitiv. Auch bei lokal verwalteten Firebox Appliances sind vergleichbare Möglichkeiten vorhanden. \nIn diesem Webinar geht es vor allem um folgende Inhalte: \n\nWatchGuard Cloud Directory\nDirectory and Domain Services\nBenutzerverwaltung für WatchGuard AuthPoint\nSynchronisation von Active Directory und Azure AD mit AuthPoint\nBenutzerverwaltung für Firebox Appliances\nAnbindung und Synchronisation von Active Directory mit Firebox Appliances.\n\nWebinaraufzeichnung jetzt ansehen!
URL:https://wordpress.boc.de/watchguard-info-portal/termine/bestpractices-live-benutzer-und-gruppenverwaltung-in-der-watchguard-cloud/
LOCATION:Online Webinar bei Citrix GoToWebinar\, Onlineveranstaltung
CATEGORIES:WatchGuard Webinare
ATTACH;FMTTYPE=image/jpeg:https://wordpress.boc.de/watchguard-info-portal/wp-content/uploads/2019/11/wg-webinare_200x200.jpg
END:VEVENT
END:VCALENDAR