BEGIN:VCALENDAR
VERSION:2.0
PRODID:-//BOC IT-Security GmbH - ECPv6.7.0//NONSGML v1.0//EN
CALSCALE:GREGORIAN
METHOD:PUBLISH
X-WR-CALNAME:BOC IT-Security GmbH
X-ORIGINAL-URL:https://wordpress.boc.de/watchguard-info-portal
X-WR-CALDESC:Veranstaltungen für BOC IT-Security GmbH
REFRESH-INTERVAL;VALUE=DURATION:PT1H
X-Robots-Tag:noindex
X-PUBLISHED-TTL:PT1H
BEGIN:VTIMEZONE
TZID:Europe/Berlin
BEGIN:DAYLIGHT
TZOFFSETFROM:+0100
TZOFFSETTO:+0200
TZNAME:CEST
DTSTART:20240331T010000
END:DAYLIGHT
BEGIN:STANDARD
TZOFFSETFROM:+0200
TZOFFSETTO:+0100
TZNAME:CET
DTSTART:20241027T010000
END:STANDARD
END:VTIMEZONE
BEGIN:VEVENT
DTSTART;TZID=Europe/Berlin:20240627T143000
DTEND;TZID=Europe/Berlin:20240627T200000
DTSTAMP:20260425T222033
CREATED:20240422T103953Z
LAST-MODIFIED:20240521T110800Z
UID:20295-1719498600-1719518400@wordpress.boc.de
SUMMARY:WatchGuard eXtended Roadshow 2024 in Oberhausen
DESCRIPTION:Besuchen Sie uns auf der WatchGuard eXtended Roadshow in Oberhausen und erfahren Sie alles über die Möglichkeiten und das Zusammenspiel moderner Cybersecurity-Lösungen. \nDie Security-Spezialisten von WatchGuard gehen gemeinsam mit uns auf Tour\, um über aktuelle Anforderungen im IT-Security-Umfeld und die neuesten Sicherheitslösungen zu informieren. Es erwarten Sie spannende Einblicke in den Alltag der Gefahrenabwehr und Gelegenheit für technische Fragen. \nDabei geht es vor allem um das aktuelle Thema NIS2-Richtlinie und die damit einhergehenden Herausforderungen\, Risiken und Lösungen. Die Umsetzung dieser Richtlinie ist komplex und fordert ein tiefes Verständnis der rechtlichen und technischen Aspekte\, um die Integrität und Sicherheit der IT-Infrastrukturen zu gewährleisten und gesetzliche Vorgaben zu erfüllen. \nEin kurzweiliger Nachmittag inklusive Verpflegung ist somit in jedem Fall garantiert. Die Plätze sind begrenzt\, also melden Sie sich am besten noch heute an. \n\n13:30 – 14:30 Uhr: BBQ\, Welcome Drinks\, Open Talks\, Infostände\n14:30 – 14:45 Uhr: BOC – Begrüßung & Vorstellung BOC\n14:45 – 15:30 Uhr: Luther – NIS2\, Haftungsrisiken und Lösungen\n15:30 – 15:45 Uhr: Leich & Deppe – Möglichkeiten für den Supergau\n15:45 – 16:30 Uhr: Pause – Kaffee & IT-Talk\, Infostände\, technische Fragen\, Lösungen\n16:30 – 17:30 Uhr: WatchGuard – Wie unterstützt WatchGuard die NIS2-Richtlinien?\n17:30 – 18:00 Uhr: BOC – Best Practice und Q&A-Session\nAb 18 Uhr: Get-Together – BBQ & Drinks\n\nWir freuen uns auf Sie. \nJetzt kostenfrei anmelden!
URL:https://wordpress.boc.de/watchguard-info-portal/termine/watchguard-extended-roadshow-2024-in-oberhausen/
LOCATION:BOC IT-Security GmbH\, Essener Str. 2-24\, Oberhausen\, 46047\, Deutschland
CATEGORIES:Messen & sonstige Veranstaltungen
ATTACH;FMTTYPE=image/png:https://wordpress.boc.de/watchguard-info-portal/wp-content/uploads/2024/04/roadshow-oberhausen.png
END:VEVENT
END:VCALENDAR