BEGIN:VCALENDAR
VERSION:2.0
PRODID:-//BOC IT-Security GmbH - ECPv6.7.0//NONSGML v1.0//EN
CALSCALE:GREGORIAN
METHOD:PUBLISH
X-WR-CALNAME:BOC IT-Security GmbH
X-ORIGINAL-URL:https://wordpress.boc.de/watchguard-info-portal
X-WR-CALDESC:Veranstaltungen für BOC IT-Security GmbH
REFRESH-INTERVAL;VALUE=DURATION:PT1H
X-Robots-Tag:noindex
X-PUBLISHED-TTL:PT1H
BEGIN:VTIMEZONE
TZID:Europe/Berlin
BEGIN:DAYLIGHT
TZOFFSETFROM:+0100
TZOFFSETTO:+0200
TZNAME:CEST
DTSTART:20240331T010000
END:DAYLIGHT
BEGIN:STANDARD
TZOFFSETFROM:+0200
TZOFFSETTO:+0100
TZNAME:CET
DTSTART:20241027T010000
END:STANDARD
END:VTIMEZONE
BEGIN:VEVENT
DTSTART;TZID=Europe/Berlin:20240510T090000
DTEND;TZID=Europe/Berlin:20240510T094500
DTSTAMP:20260426T001012
CREATED:20240502T145329Z
LAST-MODIFIED:20240806T123540Z
UID:20440-1715331600-1715334300@wordpress.boc.de
SUMMARY:BestPractices.live - Mit Firebox-Templates in WatchGuard Cloud wertvolle Zeit sparen
DESCRIPTION:Inhalt:\nHeutzutage ist es schwierig\, qualifizierte Mitarbeiter für Cyber-Sicherheit und Technik zu finden. Managed Service Provider können es sich nicht leisten\, jedes Mal\, wenn sie einen neuen Kunden oder Standort hinzufügen\, Tage mit der Wiederholung der grundlegenden Firewall-Einrichtung und -Konfiguration zu verbringen. WatchGuard Cloud löst dieses Problem mit Templates für eine einfache und wiederholbare Bereitstellung für viele Kunden. Nehmen Sie an diesem Webinar teil und erfahren Sie\, wie Sie mit den innovativen Templates in WatchGuard Cloud wertvolle Zeit sparen können. Zu den behandelten Themen gehören: \n\nVerwendung von Templates zur Definition einer “goldenen” Konfiguration\nMehrschichtige Vorlagen zur Verwaltung der verschiedenen Anwendungen und Umgebungen\nErfolgreiche Beispiele aus der Praxis\n\nWebinaraufzeichnung jetzt ansehen!
URL:https://wordpress.boc.de/watchguard-info-portal/termine/bestpractices-live-mit-firebox-templates-in-watchguard-cloud-wertvolle-zeit-sparen/
LOCATION:Online Webinar bei Citrix GoToWebinar\, Onlineveranstaltung
CATEGORIES:WatchGuard Webinare
ATTACH;FMTTYPE=image/jpeg:https://wordpress.boc.de/watchguard-info-portal/wp-content/uploads/2019/11/wg-webinare_200x200.jpg
END:VEVENT
END:VCALENDAR