BEGIN:VCALENDAR
VERSION:2.0
PRODID:-//BOC IT-Security GmbH - ECPv6.7.0//NONSGML v1.0//EN
CALSCALE:GREGORIAN
METHOD:PUBLISH
X-WR-CALNAME:BOC IT-Security GmbH
X-ORIGINAL-URL:https://wordpress.boc.de/watchguard-info-portal
X-WR-CALDESC:Veranstaltungen für BOC IT-Security GmbH
REFRESH-INTERVAL;VALUE=DURATION:PT1H
X-Robots-Tag:noindex
X-PUBLISHED-TTL:PT1H
BEGIN:VTIMEZONE
TZID:Europe/Berlin
BEGIN:DAYLIGHT
TZOFFSETFROM:+0100
TZOFFSETTO:+0200
TZNAME:CEST
DTSTART:20240331T010000
END:DAYLIGHT
BEGIN:STANDARD
TZOFFSETFROM:+0200
TZOFFSETTO:+0100
TZNAME:CET
DTSTART:20241027T010000
END:STANDARD
END:VTIMEZONE
BEGIN:VEVENT
DTSTART;TZID=Europe/Berlin:20240422T090000
DTEND;TZID=Europe/Berlin:20240426T160000
DTSTAMP:20260426T014454
CREATED:20240402T101405Z
LAST-MODIFIED:20240402T103330Z
UID:20037-1713776400-1714147200@wordpress.boc.de
SUMMARY:Hannover Messe 2024
DESCRIPTION:Die BOC IT-Security GmbH ist vom 22. – 26. April mit WatchGuard auf der Hannover Messe vertreten. Die Hannover Messe ist die weltweit wichtigste Industriemesse und steht in diesem Jahr unter dem Motto “Energizing a Sustainable Industry”. \nWeitere Informationen in unserem Blog unter >> Kostenlose Dauerkarte für die Hannover Messe 2024.
URL:https://wordpress.boc.de/watchguard-info-portal/termine/hannover-messe-2024/
LOCATION:Hannover Messe\, Messegelände\, Hannover\, 30521\, Deutschland
CATEGORIES:Messen & sonstige Veranstaltungen
ATTACH;FMTTYPE=image/jpeg:https://wordpress.boc.de/watchguard-info-portal/wp-content/uploads/2024/04/hannovermesse24.jpg
END:VEVENT
END:VCALENDAR