BEGIN:VCALENDAR
VERSION:2.0
PRODID:-//BOC IT-Security GmbH - ECPv6.7.0//NONSGML v1.0//EN
CALSCALE:GREGORIAN
METHOD:PUBLISH
X-ORIGINAL-URL:https://wordpress.boc.de/watchguard-info-portal
X-WR-CALDESC:Veranstaltungen für BOC IT-Security GmbH
REFRESH-INTERVAL;VALUE=DURATION:PT1H
X-Robots-Tag:noindex
X-PUBLISHED-TTL:PT1H
BEGIN:VTIMEZONE
TZID:Europe/Berlin
BEGIN:DAYLIGHT
TZOFFSETFROM:+0100
TZOFFSETTO:+0200
TZNAME:CEST
DTSTART:20240331T010000
END:DAYLIGHT
BEGIN:STANDARD
TZOFFSETFROM:+0200
TZOFFSETTO:+0100
TZNAME:CET
DTSTART:20241027T010000
END:STANDARD
END:VTIMEZONE
BEGIN:VEVENT
DTSTART;TZID=Europe/Berlin:20240412T090000
DTEND;TZID=Europe/Berlin:20240412T094500
DTSTAMP:20260426T014726
CREATED:20240319T143739Z
LAST-MODIFIED:20240724T150408Z
UID:19949-1712912400-1712915100@wordpress.boc.de
SUMMARY:BestPractices.live - Sichere VPN-Verbindungen mit WatchGuard Firebox
DESCRIPTION:Inhalt:\nDie WatchGuard Firebox ist eine extrem vielseitige und leistungsstarke Netzwerksicherheitslösung\, die mehrere Möglichkeiten bietet\, verschiedene Standorte sicher über öffentliche Internetverbindungen zu verbinden. \nWelche Methode ist also für die Anwendungsfälle Ihrer Kunden am besten geeignet? Wie sollte VPN genutzt werden\, um Standorte mit Fireboxen effektiv und sicher zu verbinden? \nIn diesem Webinar werden WatchGuard Security-Experten die Firebox BOVPN-Funktionen besprechen und folgende Punkte hervorheben: \n– Best Practices für ein belastbares und redundantes Netzwerk\n– Wann man IPSec\, IKEv2 oder SSL-Optionen verwenden sollte\n– Vorteile der Cloud-Verwaltung gegenüber der lokalen Verwaltung\n– Neue verfügbare Optionen für Cloud-verwaltete VPNs \nWebinaraufzeichnung jetzt ansehen!
URL:https://wordpress.boc.de/watchguard-info-portal/termine/bestpractices-live-sichere-vpn-verbindungen-mit-watchguard-firebox/
LOCATION:Online Webinar bei Citrix GoToWebinar\, Onlineveranstaltung
CATEGORIES:WatchGuard Webinare
ATTACH;FMTTYPE=image/jpeg:https://wordpress.boc.de/watchguard-info-portal/wp-content/uploads/2019/11/wg-webinare_200x200.jpg
END:VEVENT
END:VCALENDAR