BEGIN:VCALENDAR
VERSION:2.0
PRODID:-//BOC IT-Security GmbH - ECPv6.7.0//NONSGML v1.0//EN
CALSCALE:GREGORIAN
METHOD:PUBLISH
X-WR-CALNAME:BOC IT-Security GmbH
X-ORIGINAL-URL:https://wordpress.boc.de/watchguard-info-portal
X-WR-CALDESC:Veranstaltungen für BOC IT-Security GmbH
REFRESH-INTERVAL;VALUE=DURATION:PT1H
X-Robots-Tag:noindex
X-PUBLISHED-TTL:PT1H
BEGIN:VTIMEZONE
TZID:Europe/Berlin
BEGIN:DAYLIGHT
TZOFFSETFROM:+0100
TZOFFSETTO:+0200
TZNAME:CEST
DTSTART:20240331T010000
END:DAYLIGHT
BEGIN:STANDARD
TZOFFSETFROM:+0200
TZOFFSETTO:+0100
TZNAME:CET
DTSTART:20241027T010000
END:STANDARD
END:VTIMEZONE
BEGIN:VEVENT
DTSTART;TZID=Europe/Berlin:20240315T090000
DTEND;TZID=Europe/Berlin:20240315T094500
DTSTAMP:20260426T033043
CREATED:20240223T102216Z
LAST-MODIFIED:20240611T095453Z
UID:19395-1710493200-1710495900@wordpress.boc.de
SUMMARY:BestPractices.live - Was ist neu in WatchGuard Cloud
DESCRIPTION:Inhalt:\n\n\n\nMit WatchGuard Cloud entfallen die Kosten und die Komplexität\, die normalerweise für die Verwaltung\, Protokollierung und Berichterstellung für alle Sicherheitsprodukte erforderlich sind. WatchGuard arbeitet kontinuierlich an Updates und Verbesserungen der Plattform\, um die Verwaltung mehrerer Kunden und Standorte zu vereinfachen und zu skalieren. \nIn diesem Webinar erfahren Sie mehr über die neuen Funktionen und Möglichkeiten\, die in den letzten vier Monaten zur WatchGuard Cloud hinzugefügt wurden. Zu den wichtigsten Highlights gehören: \n– Neue Importfunktionen für Cloud-verwaltete Firewalls\n– Erstellung von Bedienern in der WG Cloud\n– Zuweisung von Inventar an delegierte Konten\n– Netzwerkzugangserzwingung und andere neue Funktionen in WLAN \n\n\n\nWebinaraufzeichnung jetzt ansehen!
URL:https://wordpress.boc.de/watchguard-info-portal/termine/bestpractices-live-was-ist-neu-in-watchguard-cloud/
LOCATION:Online Webinar bei Citrix GoToWebinar\, Onlineveranstaltung
CATEGORIES:WatchGuard Webinare
ATTACH;FMTTYPE=image/jpeg:https://wordpress.boc.de/watchguard-info-portal/wp-content/uploads/2019/11/wg-webinare_200x200.jpg
END:VEVENT
END:VCALENDAR