BEGIN:VCALENDAR
VERSION:2.0
PRODID:-//BOC IT-Security GmbH - ECPv6.7.0//NONSGML v1.0//EN
CALSCALE:GREGORIAN
METHOD:PUBLISH
X-WR-CALNAME:BOC IT-Security GmbH
X-ORIGINAL-URL:https://wordpress.boc.de/watchguard-info-portal
X-WR-CALDESC:Veranstaltungen für BOC IT-Security GmbH
REFRESH-INTERVAL;VALUE=DURATION:PT1H
X-Robots-Tag:noindex
X-PUBLISHED-TTL:PT1H
BEGIN:VTIMEZONE
TZID:Europe/Berlin
BEGIN:DAYLIGHT
TZOFFSETFROM:+0100
TZOFFSETTO:+0200
TZNAME:CEST
DTSTART:20240331T010000
END:DAYLIGHT
BEGIN:STANDARD
TZOFFSETFROM:+0200
TZOFFSETTO:+0100
TZNAME:CET
DTSTART:20241027T010000
END:STANDARD
END:VTIMEZONE
BEGIN:VEVENT
DTSTART;TZID=Europe/Berlin:20240216T090000
DTEND;TZID=Europe/Berlin:20240216T094500
DTSTAMP:20260426T051637
CREATED:20240205T105254Z
LAST-MODIFIED:20240424T113658Z
UID:19045-1708074000-1708076700@wordpress.boc.de
SUMMARY:BestPractices.live - Managed Detection and Response
DESCRIPTION:Inhalt:\n\n\n\nWatchGuard Managed Detection and Response (MDR) wird rund um die Uhr von WatchGuards Elite-Team von Cyber-Sicherheitsexperten in einem modernen\, voll ausgestatteten SOC betrieben und durch KI unterstützt. Mit diesem neuen Service ist eine nahtlose Verfügbarkeit von 24/7/365 Cyber Security Services wie Endpoint Security Monitoring\, Threat Hunting\, Angriffserkennung\, -untersuchung und -abwehr möglich\, um jeden Sicherheitsvorfall zu beheben. \nIn diesem Webinar geht es um die technischen Details des neuen MDR-Services und folgende Fragen werden beantwortet: \n– Warum wird MDR benötigt?\n– Wie funktioniert MDR?\n– Welche Arten von Vorfällen werden proaktiv erkannt?\n– Wie sehen die Vorfallwarnungen und regelmäßigen Berichte aus? \nWenn Sie bereit sind\, den nächsten Schritt in Sachen Sicherheit zu tun\, melden Sie sich jetzt für diese wichtige Veranstaltung an. \n\n\n\nWebinaraufzeichnung jetzt ansehen!
URL:https://wordpress.boc.de/watchguard-info-portal/termine/bestpractices-live-managed-detection-and-response/
LOCATION:Online Webinar bei Citrix GoToWebinar\, Onlineveranstaltung
CATEGORIES:WatchGuard Webinare
ATTACH;FMTTYPE=image/jpeg:https://wordpress.boc.de/watchguard-info-portal/wp-content/uploads/2019/11/wg-webinare_200x200.jpg
END:VEVENT
END:VCALENDAR